BEGIN:VCALENDAR
VERSION:2.0
PRODID:-//InvisionCommunity Events 5.0.18//EN
METHOD:PUBLISH
CALSCALE:GREGORIAN
REFRESH-INTERVAL:PT15M
X-PUBLISHED-TTL:PT15M
X-WR-CALNAME:Northern Ireland
NAME:Northern Ireland
BEGIN:VTIMEZONE
TZID:Europe/London
TZURL:https://tzurl.org/zoneinfo/Europe/London
X-LIC-LOCATION:Europe/London
BEGIN:DAYLIGHT
TZOFFSETFROM:+0000
TZOFFSETTO:+0100
TZNAME:BST
DTSTART:20250330T020000Z
RRULE:FREQ=YEARLY;BYMONTH=3;BYDAY=-1SU
END:DAYLIGHT
BEGIN:STANDARD
TZOFFSETFROM:+0100
TZOFFSETTO:+0000
TZNAME:GMT
DTSTART:20251026T020000Z
RRULE:FREQ=YEARLY;BYMONTH=10;BYDAY=-1SU
END:STANDARD
END:VTIMEZONE
BEGIN:VEVENT
SUMMARY:THE BN BIG QUIZ
DTSTAMP:20250425T093247Z
SEQUENCE:0
UID:9574-29-0712e666d78c35a5e0181a336d457050@bn.org.uk
ORGANIZER;CN="GaryNors":notifications@bn.org.uk
DESCRIPTION:The Big Quiz The Big Quiz returns on Friday 3rd October 202
	5\, remember our start time of 7.30pm sharp\, so join from 7.20pm\, we wil
	l be glad to see you on any Friday unitil the end of April except 31st Oct
	ober and 26th December 2025. Hopefully the the sign on details are the sa
	me as usual \n\nMeeting ID: 88138013427\nPasscode: 706180We need volunteer
	s for the weeks ahead to be quizmaster or mistress\, so if you can take on
	 preparation for 2026 please let us know.
DTSTART:20251003T183000Z
DTEND:20251003T203000Z
RRULE:FREQ=WEEKLY;INTERVAL=1;UNTIL=20260327T000000;BYDAY=FR
END:VEVENT
END:VCALENDAR
