BEGIN:VCALENDAR
VERSION:2.0
PRODID:-//InvisionCommunity Events 5.0.18//EN
METHOD:PUBLISH
CALSCALE:GREGORIAN
REFRESH-INTERVAL:PT15M
X-PUBLISHED-TTL:PT15M
X-WR-CALNAME:South West
NAME:South West
BEGIN:VTIMEZONE
TZID:Europe/London
TZURL:https://tzurl.org/zoneinfo/Europe/London
X-LIC-LOCATION:Europe/London
BEGIN:DAYLIGHT
TZOFFSETFROM:+0000
TZOFFSETTO:+0100
TZNAME:BST
DTSTART:20250330T020000Z
RRULE:FREQ=YEARLY;BYMONTH=3;BYDAY=-1SU
END:DAYLIGHT
BEGIN:STANDARD
TZOFFSETFROM:+0100
TZOFFSETTO:+0000
TZNAME:GMT
DTSTART:20251026T020000Z
RRULE:FREQ=YEARLY;BYMONTH=10;BYDAY=-1SU
END:STANDARD
END:VTIMEZONE
BEGIN:VEVENT
SUMMARY:EveryBody Naturist Waterpark
DTSTAMP:20250424T110404Z
SEQUENCE:0
UID:9571-4-0712e666d78c35a5e0181a336d457050@bn.org.uk
ORGANIZER;CN="Alana":notifications@bn.org.uk
DESCRIPTION:\n	Join us for a Naturist swim at the South's biggest and be
	st Waterpark\, Splashdown in Poole.\n\n\n\n	This swim is open to all but m
	ust be booked in advance.\n\n\n\n	There are no tickets available on the ni
	ght.\n\n\n\n	To book tickets\, please click here.\n\n
DTSTART:20250802T190000Z
DTEND:20250802T210000Z
END:VEVENT
END:VCALENDAR
