BEGIN:VCALENDAR
VERSION:2.0
PRODID:-//InvisionCommunity Events 5.0.18//EN
METHOD:PUBLISH
CALSCALE:GREGORIAN
REFRESH-INTERVAL:PT15M
X-PUBLISHED-TTL:PT15M
X-WR-CALNAME:London and South East (LASER)
NAME:London and South East (LASER)
BEGIN:VTIMEZONE
TZID:Europe/London
TZURL:https://tzurl.org/zoneinfo/Europe/London
X-LIC-LOCATION:Europe/London
BEGIN:DAYLIGHT
TZOFFSETFROM:+0000
TZOFFSETTO:+0100
TZNAME:BST
DTSTART:20250330T020000Z
RRULE:FREQ=YEARLY;BYMONTH=3;BYDAY=-1SU
END:DAYLIGHT
BEGIN:STANDARD
TZOFFSETFROM:+0100
TZOFFSETTO:+0000
TZNAME:GMT
DTSTART:20251026T020000Z
RRULE:FREQ=YEARLY;BYMONTH=10;BYDAY=-1SU
END:STANDARD
END:VTIMEZONE
BEGIN:VEVENT
SUMMARY:Midsummer madness
DTSTAMP:20250423T063521Z
SEQUENCE:0
UID:9568-7-0712e666d78c35a5e0181a336d457050@bn.org.uk
ORGANIZER;CN="GeoffCaroline":notifications@bn.org.uk
DESCRIPTION:\n	\n\n\n\n	Invicta sun club Dover invites you to our Midsum
	mer Madness ! Members and friends are going to entertain you with everyone
	 welcome to “do their bit” is should be a laugh if nothing else !! Any
	one is welcome to do something \, come and show us your talents. American 
	Supper at 7pm (bring food and share)\n\n\n\n	Day visit £7.50 or camp and 
	stay for £20 a night per camper van\, caravan or tent.  \n\n\n\n	Call 07
	847614585 to book\n\n\n\n	Look forward to meeting you. \n\n
DTSTART:20250620T230000Z
END:VEVENT
END:VCALENDAR
