BEGIN:VCALENDAR
VERSION:2.0
PRODID:-//InvisionCommunity Events 5.0.18//EN
METHOD:PUBLISH
CALSCALE:GREGORIAN
REFRESH-INTERVAL:PT15M
X-PUBLISHED-TTL:PT15M
X-WR-CALNAME:South West
NAME:South West
BEGIN:VTIMEZONE
TZID:Europe/London
TZURL:https://tzurl.org/zoneinfo/Europe/London
X-LIC-LOCATION:Europe/London
BEGIN:DAYLIGHT
TZOFFSETFROM:+0000
TZOFFSETTO:+0100
TZNAME:BST
DTSTART:20250330T020000Z
RRULE:FREQ=YEARLY;BYMONTH=3;BYDAY=-1SU
END:DAYLIGHT
BEGIN:STANDARD
TZOFFSETFROM:+0100
TZOFFSETTO:+0000
TZNAME:GMT
DTSTART:20251026T020000Z
RRULE:FREQ=YEARLY;BYMONTH=10;BYDAY=-1SU
END:STANDARD
END:VTIMEZONE
BEGIN:VEVENT
SUMMARY:NEWDplus walk - Hurn Forest (near Christchurch)
DTSTAMP:20250421T144023Z
SEQUENCE:0
UID:9566-4-0712e666d78c35a5e0181a336d457050@bn.org.uk
ORGANIZER;CN="bdzpete":notifications@bn.org.uk
DESCRIPTION:\n	Naturist Evening Walks Dorset plus - The one with the dow
	nhill racers (apologies to \"Friends\" fans)\n\n\n\n	Come and join us for 
	this 3-mile\, leisurely evening naked countryside walk with a plus.  You 
	are encouraged to bring family &amp\; friends with you\, and if they opt n
	ot to walk with us there's another activity they might enjoy right next to
	 the walk's start point: ski/snowboard\, ringos for the kids\, or just wat
	ch those downhill racers.  \n\n\n\n	The walk itself takes us through mixe
	d-age conifer plantations on footpaths and gravel forest tracks. The terra
	in is basically flat.\n\n\n\n	 This event is one of three NEWDplus (Natur
	ist Evening Walks Dorset +) walks planned for May and early June\, all lis
	ted in the BN Events Calendar.  British Naturism members and others inter
	ested in naked walking are welcome.  When booking\, please state your BN 
	membership number or other interest\, and provide your email address and m
	obile phone number.\n\n\n\n	For further information or to book onto this a
	nd/or other walks in the NEWDplus series\, please email peter.simpson@bn.o
	rg.uk  Details of the meeting point and other information will be provide
	d when your booking is confirmed.\n\n
DTSTART:20250521T170000Z
END:VEVENT
END:VCALENDAR
