BEGIN:VCALENDAR
VERSION:2.0
PRODID:-//InvisionCommunity Events 5.0.18//EN
METHOD:PUBLISH
CALSCALE:GREGORIAN
REFRESH-INTERVAL:PT15M
X-PUBLISHED-TTL:PT15M
X-WR-CALNAME:South West
NAME:South West
BEGIN:VTIMEZONE
TZID:Europe/London
TZURL:https://tzurl.org/zoneinfo/Europe/London
X-LIC-LOCATION:Europe/London
BEGIN:DAYLIGHT
TZOFFSETFROM:+0000
TZOFFSETTO:+0100
TZNAME:BST
DTSTART:20250330T020000Z
RRULE:FREQ=YEARLY;BYMONTH=3;BYDAY=-1SU
END:DAYLIGHT
BEGIN:STANDARD
TZOFFSETFROM:+0100
TZOFFSETTO:+0000
TZNAME:GMT
DTSTART:20251026T020000Z
RRULE:FREQ=YEARLY;BYMONTH=10;BYDAY=-1SU
END:STANDARD
END:VTIMEZONE
BEGIN:VEVENT
SUMMARY:NEWDplus walk - Holt Heath (near Wimborne)
DTSTAMP:20250421T143218Z
SEQUENCE:0
UID:9565-4-0712e666d78c35a5e0181a336d457050@bn.org.uk
ORGANIZER;CN="bdzpete":notifications@bn.org.uk
DESCRIPTION:\n	Naturist Evening Walks Dorset plus - The one with the loa
	d of balls (apologies to \"Friends\" fans)\n\n\n\n	Come and join us for th
	is 3-mile\, leisurely evening naked countryside walk with a plus.  You ar
	e encouraged to bring family &amp\; friends with you\, and if they opt not
	 to walk with us there's another activity they might enjoy right next to t
	he walk's start point: a golf driving range\, or even 9/18 holes of golf.\
	n\n\n\n	The walk itself is over open heathland of a National Nature Reserv
	e\, and through mixed-age conifer plantations on footpaths and gravel fore
	st tracks. The terrain is decidedly flat.\n\n	 \n\n	This event is one of 
	three NEWDplus (Naturist Evening Walks Dorset +) walks planned for May and
	 early June\, all listed in the BN Events Calendar.  British Naturism mem
	bers and others interested in naked walking are welcome.  When booking\, 
	please state your BN membership number or other interest\, and provide you
	r email address and mobile phone number.\n\n\n\n	For further information o
	r to book onto this and/or other walks in the NEWDplus series\, please ema
	il peter.simpson@bn.org.uk  Details of the meeting point and other inform
	ation will be provided when your booking is confirmed.\n\n
DTSTART:20250506T160000Z
END:VEVENT
END:VCALENDAR
