BEGIN:VCALENDAR
VERSION:2.0
PRODID:-//InvisionCommunity Events 5.0.18//EN
METHOD:PUBLISH
CALSCALE:GREGORIAN
REFRESH-INTERVAL:PT15M
X-PUBLISHED-TTL:PT15M
X-WR-CALNAME:London and South East (LASER)
NAME:London and South East (LASER)
BEGIN:VTIMEZONE
TZID:Europe/London
TZURL:https://tzurl.org/zoneinfo/Europe/London
X-LIC-LOCATION:Europe/London
BEGIN:DAYLIGHT
TZOFFSETFROM:+0000
TZOFFSETTO:+0100
TZNAME:BST
DTSTART:20250330T020000Z
RRULE:FREQ=YEARLY;BYMONTH=3;BYDAY=-1SU
END:DAYLIGHT
BEGIN:STANDARD
TZOFFSETFROM:+0100
TZOFFSETTO:+0000
TZNAME:GMT
DTSTART:20251026T020000Z
RRULE:FREQ=YEARLY;BYMONTH=10;BYDAY=-1SU
END:STANDARD
END:VTIMEZONE
BEGIN:VEVENT
SUMMARY:Arundel Lido GBSD
DTSTAMP:20250420T180039Z
SEQUENCE:0
UID:9563-7-0712e666d78c35a5e0181a336d457050@bn.org.uk
ORGANIZER;CN="Ron.O":notifications@bn.org.uk
DESCRIPTION:\n	Arundel Lido GBSD\n\n\n\n	Following fantastic attendance 
	numbers in previous years\, the Arundel Lido GBSD events are back again wi
	th 4 great events scheduled throughout the Summer months. Please check the
	 dates for venue confirmation before booking.\n\n\n\n	Food\, Soft Drinks\,
	 Tea &amp\; Coffee will be available to purchase at each event. \n\n\n\n	T
	he 25m Pool is heated and available for Naked swimming / socialising on th
	e first weekend of each Month from June to September 18.15 - 20.00.\n\n\n\
	n	There are extensive sunbathing areas to enjoy\, clothes free. \n\n\n\n	
	Booking will be available via the venue website soon - priced £8.50pp.\n\
	n\n\n	Address: Arundel Lido\, Queen Street\, Arundel\, West Sussex. \n\n\
	n\n	Postcode: BN18 9JG  Tel. 01903 884772\n\n\n\n	\n\n
DTSTART:20250907T171500Z
DTEND:20250907T190000Z
END:VEVENT
END:VCALENDAR
