BEGIN:VCALENDAR
VERSION:2.0
PRODID:-//InvisionCommunity Events 5.0.18//EN
METHOD:PUBLISH
CALSCALE:GREGORIAN
REFRESH-INTERVAL:PT15M
X-PUBLISHED-TTL:PT15M
X-WR-CALNAME:North West
NAME:North West
BEGIN:VTIMEZONE
TZID:Europe/London
TZURL:https://tzurl.org/zoneinfo/Europe/London
X-LIC-LOCATION:Europe/London
BEGIN:DAYLIGHT
TZOFFSETFROM:+0000
TZOFFSETTO:+0100
TZNAME:BST
DTSTART:20250330T020000Z
RRULE:FREQ=YEARLY;BYMONTH=3;BYDAY=-1SU
END:DAYLIGHT
BEGIN:STANDARD
TZOFFSETFROM:+0100
TZOFFSETTO:+0000
TZNAME:GMT
DTSTART:20251026T020000Z
RRULE:FREQ=YEARLY;BYMONTH=10;BYDAY=-1SU
END:STANDARD
END:VTIMEZONE
BEGIN:VEVENT
SUMMARY:WITHINGTON GBSD
DTSTAMP:20250420T113503Z
SEQUENCE:0
UID:9559-5-0712e666d78c35a5e0181a336d457050@bn.org.uk
ORGANIZER;CN="Ron.O":notifications@bn.org.uk
DESCRIPTION:Withington Pool GBSD with mega Sauna.Join us on the 3rd Sund
	ay of each Month.Please note the earlier Xmas start time for this one even
	t.Please arrive around 4.50 pm last entry 5.20 pmVisit the Website to book
	17.00 - 18.30. £10 online or £10 cash on the nightTo book online or join
	 our WhatsApp group message Ron 07761875675. Burton Road\, Withington\, M
	anchester. M20 3EB.Mailto: ron.ohare@bn.org.ukThis event is for Over 18s o
	nlyThinking of joining British Naturism? View the benefits
DTSTART:20251221T170000Z
DTEND:20251221T183000Z
END:VEVENT
END:VCALENDAR
