BEGIN:VCALENDAR
VERSION:2.0
PRODID:-//InvisionCommunity Events 5.0.18//EN
METHOD:PUBLISH
CALSCALE:GREGORIAN
REFRESH-INTERVAL:PT15M
X-PUBLISHED-TTL:PT15M
X-WR-CALNAME:South West
NAME:South West
BEGIN:VTIMEZONE
TZID:Europe/London
TZURL:https://tzurl.org/zoneinfo/Europe/London
X-LIC-LOCATION:Europe/London
BEGIN:DAYLIGHT
TZOFFSETFROM:+0000
TZOFFSETTO:+0100
TZNAME:BST
DTSTART:20250330T020000Z
RRULE:FREQ=YEARLY;BYMONTH=3;BYDAY=-1SU
END:DAYLIGHT
BEGIN:STANDARD
TZOFFSETFROM:+0100
TZOFFSETTO:+0000
TZNAME:GMT
DTSTART:20251026T020000Z
RRULE:FREQ=YEARLY;BYMONTH=10;BYDAY=-1SU
END:STANDARD
END:VTIMEZONE
BEGIN:VEVENT
SUMMARY:SWOC Walk
DTSTAMP:20250417T123548Z
SEQUENCE:0
UID:9550-4-0712e666d78c35a5e0181a336d457050@bn.org.uk
ORGANIZER;CN="Andy Dyer":notifications@bn.org.uk
DESCRIPTION:Join us for a 9 mile naturist walk starting from the South W
	estern Outdoor Club (SWOC) at Batcombe\, half-way between Dorchester and Y
	eovil\, on Tuesday\, 15th July 2024.The walk will take in ridge tracks\,
	 farmland and wooded paths via Cerne Abbas with distant views of the famou
	s naked Cerne Giant. The route is of moderate difficulty with several stee
	p hills and some stiles to negotiate. Whilst we will need to be clothed wh
	en we leave and return to SWOC itself and at some points during the walk s
	uch as in Cerne village and crossing roads\, it is expected that we will b
	e able to walk most of the way nude. A stop will be made for lunch so plea
	se bring a picnic. Tea and coffee will be available in the club house at S
	WOC before and after the walk\, with a small charge of £5 for the use of 
	facilities being made by the club\, payable by visitors on the day.This ev
	ent follows the inaugural walk last July\, organised by British Naturism S
	outh West Region in association with SWOC. It is open to all members of Br
	itish Naturism and other naturist groups\; anyone new to naturism or to na
	turist walking is welcome too. When booking\, please state whether you are
	 a member of BN\, NatRam or another naturist group or club.Camping pitche
	s will be available at SWOC if you wish to stay before or after the walk: 
	please contact the Club Secretary via secretaryswoc@gmail.com.You must be
	 fit enough to walk up to nine miles\, including moderate hills.For furthe
	r information please contact Howard via howard.dymock@bn.org.uk or Geoff
	rey via geoffrey.ryder@bn.org.uk.Details of the meeting point and other i
	nformation will be provided at the start of July.Please pre-book via https
	://buytickets.at/nakedticketstore/1672083
DTSTART:20250715T103000Z
END:VEVENT
END:VCALENDAR
