BEGIN:VCALENDAR
VERSION:2.0
PRODID:-//InvisionCommunity Events 5.0.18//EN
METHOD:PUBLISH
CALSCALE:GREGORIAN
REFRESH-INTERVAL:PT15M
X-PUBLISHED-TTL:PT15M
X-WR-CALNAME:London and South East (LASER)
NAME:London and South East (LASER)
BEGIN:VTIMEZONE
TZID:Europe/London
TZURL:https://tzurl.org/zoneinfo/Europe/London
X-LIC-LOCATION:Europe/London
BEGIN:DAYLIGHT
TZOFFSETFROM:+0000
TZOFFSETTO:+0100
TZNAME:BST
DTSTART:20250330T020000Z
RRULE:FREQ=YEARLY;BYMONTH=3;BYDAY=-1SU
END:DAYLIGHT
BEGIN:STANDARD
TZOFFSETFROM:+0100
TZOFFSETTO:+0000
TZNAME:GMT
DTSTART:20251026T020000Z
RRULE:FREQ=YEARLY;BYMONTH=10;BYDAY=-1SU
END:STANDARD
END:VTIMEZONE
BEGIN:VEVENT
SUMMARY:Great East Skinny Dip 2025
DTSTAMP:20250417T084607Z
SEQUENCE:0
UID:9548-7-0712e666d78c35a5e0181a336d457050@bn.org.uk
ORGANIZER;CN="stuarthamilton":notifications@bn.org.uk
DESCRIPTION:\n	Great East Skinny Dip\n\n	Martello Tower/Marine Parade We
	st\,\n\n	Clacton-on-Sea CO15 1XY\n\n	Saturday 30th August 2025\, 1pm (meet
	 from 12 noon)\n\n	Entry costs £15.00\n\n\n\n	Join the Facebook Group htt
	ps://www.facebook.com/groups/geskinny\n\n\n\n	http://www.entrycentral.com/
	favicon.pngSign-up for 2025 Great East Skinny Dip\n\n\n\n	The Great East S
	kinny Dip is part of the Great British Skinny Dip. Thousands of people acr
	oss the country will be taking part to raise money for good causes and to 
	experience the exhileration of being naked.\n\n	Why Skinny Dip?\n\n	From m
	ental health and body positivity to raising your heart rate and just feeli
	ng the rush of being alive\, there are many\, many health benefits to bein
	g naked. But\, if you are looking for another reason to skinny dip\, why n
	ot do it for a great cause? Our chosen charity is the mental heath charity
	 MIND (charity reg no 1064309)\n\n\n\n	The Great British Skinny Dip starte
	d in 2016 and has expanded from one event to dozens being organised around
	 the country.\n\n	The Great East Skinny Dip had six dippers in 2019 and ex
	panded to forty when it moved to Clacton-on-Sea for 2021. By 2023 this had
	 reached 100.\n\n\n\n	Being in a non-judgemental diverse group helps you b
	ecome familiar with and accepting of all kinds of body types. Whatever you
	 look like\, you are normal\, as is everyone else.\n\n	You can be as bare 
	as you dare. If you would feel more comfortable wearing a swimsuit then yo
	u are welcome to. There will be time to strip off and store your clothes b
	efore the off and plenty of space to spread out or stay within your friend
	s or family group when on the beach.\n\n\n\n	https://slowswimming.org/wp-c
	ontent/uploads/2023/09/img141-1024x239.jpg\n\n\n\n	The Great East Skinny D
	ip takes place at 1pm on the sea front at Clacton-on-Sea. We are 1km along
	 the sea front south (to the right) of the pleasure pier\, near the Martel
	lo Tower.\n\n\n\n	https://slowswimming.org/wp-content/uploads/2023/09/Imag
	e2-1024x421.jpg\n\n\n\n	We will be meeting at 12 noon at on the beach in f
	ront of the Martello Tower.\n\n	Please make sure you have entered online f
	irst. Once signed in you will receive a wrist band that you must wear duri
	ng the event.\n\n	At 1pm we will sound the horn and rush as one into the s
	ea. Squeals and screams are bound to follow!\n\n\n\n	This year we are prou
	d to be raising much needed funds for MIND\, the mental health charity (ch
	arity reg no. 1064309)\n\n	Ask your friends\, family and colleagues to spo
	nsor you to take part in the Great East Skinny Dip then click here to make
	 a donation to MIND\, or to upload your sponsorship money.\n\n	https://www
	.justgiving.com/mnessexmind\n\n\n\n	 \n\n\n\n	http://www.entrycentral.com
	/favicon.pngSign-up for 2025 Great East Skinny Dip\n\n\n\n	Travelling\n\n	
	By Train\n\n	There are trains arriving every hour from London\, Chelmsford
	 Colchester and Ipswich on Greater Anglia from Liverpool Street. Times and
	 booking here https://www.thetrainline.com/\n\n	From Clacton-on-Sea railwa
	y station it is a fifteen minute walk\; down to the sea front\, turn right
	 past the pier and along Marine Parade West to the Martello Tower and Mart
	ello Bay\, at the far end.\n\n	By Car\n\n	You can find car parks in Clacto
	n on Sea here www.google.com/maps/search/google+car+par+map/@51.789474.1\,
	1.57991\,13z\n\n	We will be at the sea front between the Hastings Avenue C
	ar Park (53\, 55 Hastings Ave\, Clacton CO15 1XY) and the Toby Carvery (CO
	15 1NW). You’ll spot the gazebo and the Slow Swimming flags.\n\n\n\n	Am 
	I allowed to take pictures?\n\n\n\n	Yes you are but we strongly urge you t
	o consider the privacy of others when taking film and photos to capture yo
	ur GESD experience. Refrain from uploading any footage to social media wit
	hout the permission of all those featured. Some dippers simply cannot affo
	rd to have themselves displayed on the internet. Be sensible and respectfu
	l.\n\n
DTSTART:20250830T120000Z
DTEND:20250830T130000Z
END:VEVENT
END:VCALENDAR
