BEGIN:VCALENDAR
VERSION:2.0
PRODID:-//InvisionCommunity Events 5.0.18//EN
METHOD:PUBLISH
CALSCALE:GREGORIAN
REFRESH-INTERVAL:PT15M
X-PUBLISHED-TTL:PT15M
X-WR-CALNAME:Eastern
NAME:Eastern
BEGIN:VTIMEZONE
TZID:Europe/London
TZURL:https://tzurl.org/zoneinfo/Europe/London
X-LIC-LOCATION:Europe/London
BEGIN:DAYLIGHT
TZOFFSETFROM:+0000
TZOFFSETTO:+0100
TZNAME:BST
DTSTART:20250330T020000Z
RRULE:FREQ=YEARLY;BYMONTH=3;BYDAY=-1SU
END:DAYLIGHT
BEGIN:STANDARD
TZOFFSETFROM:+0100
TZOFFSETTO:+0000
TZNAME:GMT
DTSTART:20251026T020000Z
RRULE:FREQ=YEARLY;BYMONTH=10;BYDAY=-1SU
END:STANDARD
END:VTIMEZONE
BEGIN:VEVENT
SUMMARY:Broadlands Open Day 2025
DTSTAMP:20250415T032944Z
SEQUENCE:0
UID:9545-8-0712e666d78c35a5e0181a336d457050@bn.org.uk
ORGANIZER;CN="Paulr":notifications@bn.org.uk
DESCRIPTION:\n	Broadlands is delighted to announce we will once again be
	 opening our doors and holding an open day on Sunday 18th May 2025\n\n\n\n
		Interested in naturism and want to learn more then why not come and join 
	us for the day\, ask questions and experience first hand the relaxing and 
	positive effects naturism can have on your life.\n\n\n\n	Click on the link
	 below to watch our open day video and then please sign up to come and vis
	it us. you can also email us info@broadlandsun.co.uk \n\n\n\n	https://br
	oadlandsun.co.uk/openday/\n\n
DTSTART:20250518T090000Z
DTEND:20250518T150000Z
END:VEVENT
END:VCALENDAR
