BEGIN:VCALENDAR
VERSION:2.0
PRODID:-//InvisionCommunity Events 5.0.18//EN
METHOD:PUBLISH
CALSCALE:GREGORIAN
REFRESH-INTERVAL:PT15M
X-PUBLISHED-TTL:PT15M
X-WR-CALNAME:London and South East (LASER)
NAME:London and South East (LASER)
BEGIN:VTIMEZONE
TZID:Europe/London
TZURL:https://tzurl.org/zoneinfo/Europe/London
X-LIC-LOCATION:Europe/London
BEGIN:DAYLIGHT
TZOFFSETFROM:+0000
TZOFFSETTO:+0100
TZNAME:BST
DTSTART:20250330T020000Z
RRULE:FREQ=YEARLY;BYMONTH=3;BYDAY=-1SU
END:DAYLIGHT
BEGIN:STANDARD
TZOFFSETFROM:+0100
TZOFFSETTO:+0000
TZNAME:GMT
DTSTART:20251026T020000Z
RRULE:FREQ=YEARLY;BYMONTH=10;BYDAY=-1SU
END:STANDARD
END:VTIMEZONE
BEGIN:VEVENT
SUMMARY:Markbeech walk
DTSTAMP:20250413T145912Z
SEQUENCE:0
UID:9541-7-0712e666d78c35a5e0181a336d457050@bn.org.uk
ORGANIZER;CN="mike_fernlea":notifications@bn.org.uk
DESCRIPTION:\n	\n		\n			We will be holding the next of the SE naturist w
	alks from Markbeech on Thursday 28th August. (Markbeech is very roughly\, 
	halfway between Tunbridge Wells and East Grinstead). The walk will be arou
	nd 6 miles/10km\n		\n\n		\n			Meeting location: The Holy Trinity Church in
	 Markbeech\n		\n\n		\n			Time: 11:00am\n		\n\n		\n			Walk leader: Phil Har
	ris 07711 640060\n		\n\n		\n			Contact: Mike Ryan 07958 750139\n		\n\n		\n
				As always\, please ensure you bring enough water and snacks for the wal
	k.\n		\n	\n\n
DTSTART;VALUE=DATE:20250828
END:VEVENT
END:VCALENDAR
