BEGIN:VCALENDAR
VERSION:2.0
PRODID:-//InvisionCommunity Events 5.0.18//EN
METHOD:PUBLISH
CALSCALE:GREGORIAN
REFRESH-INTERVAL:PT15M
X-PUBLISHED-TTL:PT15M
X-WR-CALNAME:London and South East (LASER)
NAME:London and South East (LASER)
BEGIN:VTIMEZONE
TZID:Europe/London
TZURL:https://tzurl.org/zoneinfo/Europe/London
X-LIC-LOCATION:Europe/London
BEGIN:DAYLIGHT
TZOFFSETFROM:+0000
TZOFFSETTO:+0100
TZNAME:BST
DTSTART:20250330T020000Z
RRULE:FREQ=YEARLY;BYMONTH=3;BYDAY=-1SU
END:DAYLIGHT
BEGIN:STANDARD
TZOFFSETFROM:+0100
TZOFFSETTO:+0000
TZNAME:GMT
DTSTART:20251026T020000Z
RRULE:FREQ=YEARLY;BYMONTH=10;BYDAY=-1SU
END:STANDARD
END:VTIMEZONE
BEGIN:VEVENT
SUMMARY:Ashdown Forest walk
DTSTAMP:20250413T145653Z
SEQUENCE:0
UID:9540-7-0712e666d78c35a5e0181a336d457050@bn.org.uk
ORGANIZER;CN="mike_fernlea":notifications@bn.org.uk
DESCRIPTION:\n	\n		\n			This is an 18km walk in Ashdown Forest and throu
	gh the beautiful West Sussex coutryside.\n		\n\n		\n			The walk is fairly 
	level with only some minor hills and no major climbs. The walk will meet a
	t 11:00am in Ashdown Forest\n		\n\n		\n			Meeting location: Millbrook East
	 Car Park\, Ashdown Forest\n		\n\n		\n			    https://maps.app.goo.gl/D7
	Ftumn3DYqF6XXV8 \n		\n\n		\n			    What three words - specifies.carame
	l.snacks\n		\n\n		\n			    Postcode TN22 3HW\n		\n\n		\n			(It may also
	 be possible to pick up people from East Grinstead train station\, dependi
	ng on numbers. Please contact Mike Ryan before-hand to confirm)\n		\n\n		\
	n			Contact: Mike Ryan 07958 750139\n		\n\n		\n			Walk leader: Phil Harris
	 07711 640060\n		\n\n		\n			As always\, please ensure you bring enough wat
	er and snacks for the walk.\n		\n	\n\n
DTSTART:20250715T100000Z
END:VEVENT
END:VCALENDAR
