BEGIN:VCALENDAR
VERSION:2.0
PRODID:-//InvisionCommunity Events 5.0.18//EN
METHOD:PUBLISH
CALSCALE:GREGORIAN
REFRESH-INTERVAL:PT15M
X-PUBLISHED-TTL:PT15M
X-WR-CALNAME:London and South East (LASER)
NAME:London and South East (LASER)
BEGIN:VTIMEZONE
TZID:Europe/London
TZURL:https://tzurl.org/zoneinfo/Europe/London
X-LIC-LOCATION:Europe/London
BEGIN:DAYLIGHT
TZOFFSETFROM:+0000
TZOFFSETTO:+0100
TZNAME:BST
DTSTART:20250330T020000Z
RRULE:FREQ=YEARLY;BYMONTH=3;BYDAY=-1SU
END:DAYLIGHT
BEGIN:STANDARD
TZOFFSETFROM:+0100
TZOFFSETTO:+0000
TZNAME:GMT
DTSTART:20251026T020000Z
RRULE:FREQ=YEARLY;BYMONTH=10;BYDAY=-1SU
END:STANDARD
END:VTIMEZONE
BEGIN:VEVENT
SUMMARY:Hever Walk
DTSTAMP:20250413T145415Z
SEQUENCE:0
UID:9539-7-0712e666d78c35a5e0181a336d457050@bn.org.uk
ORGANIZER;CN="mike_fernlea":notifications@bn.org.uk
DESCRIPTION:\n	Starting at Hever Station\, this is an 18Km walk around t
	he countryside to the south of historic Hever Castle. The walk will meet a
	t 10:00am\n\n\n\n	Meeting point: Hever Station\n\n\n\n	    https://maps
	.app.goo.gl/xjNpBTtLCnT4UqzV9\n\n\n\n	     What Three Words snaps.line
	.duke\n\n\n\n	    Postcode TN8 7ER\n\n\n\n	Contact: Mike Ryan 07958 750
	139\n\n\n\n	Walk leader: Phil Harris 07711 640060\n\n\n\n	As always\, plea
	se ensure you bring enough water and snacks for the walk.\n\n
DTSTART;VALUE=DATE:20250612
END:VEVENT
END:VCALENDAR
