BEGIN:VCALENDAR
VERSION:2.0
PRODID:-//InvisionCommunity Events 5.0.18//EN
METHOD:PUBLISH
CALSCALE:GREGORIAN
REFRESH-INTERVAL:PT15M
X-PUBLISHED-TTL:PT15M
X-WR-CALNAME:London and South East (LASER)
NAME:London and South East (LASER)
BEGIN:VTIMEZONE
TZID:Europe/London
TZURL:https://tzurl.org/zoneinfo/Europe/London
X-LIC-LOCATION:Europe/London
BEGIN:DAYLIGHT
TZOFFSETFROM:+0000
TZOFFSETTO:+0100
TZNAME:BST
DTSTART:20250330T020000Z
RRULE:FREQ=YEARLY;BYMONTH=3;BYDAY=-1SU
END:DAYLIGHT
BEGIN:STANDARD
TZOFFSETFROM:+0100
TZOFFSETTO:+0000
TZNAME:GMT
DTSTART:20251026T020000Z
RRULE:FREQ=YEARLY;BYMONTH=10;BYDAY=-1SU
END:STANDARD
END:VTIMEZONE
BEGIN:VEVENT
SUMMARY:Tandridge loop from Hurst Green Station
DTSTAMP:20250413T144941Z
SEQUENCE:0
UID:9538-7-0712e666d78c35a5e0181a336d457050@bn.org.uk
ORGANIZER;CN="mike_fernlea":notifications@bn.org.uk
DESCRIPTION:This walk is called the Tandridge Loop. We'll aim to meet at
	 Hurst Green train station at 10:45am to be underway by 11:00am(please dou
	ble check your train times before you leave)Meeting point:     Hurst G
	reen Station       https://maps.app.goo.gl/DHhZHrKsTeiXdUxN7   
	  What Three Words scared.limp.drag     Postcode RH8 0LLThe walk is 
	roughly 13km or 8 miles in lengthParking is available in the station car p
	ark and it operated by ApcoaThe walk will be led by Phil Harris who can be
	 reached on the day on 07711 640060Please ensure you bring enough water an
	d snacks for the walk. 
DTSTART:20250527T100000Z
END:VEVENT
END:VCALENDAR
