BEGIN:VCALENDAR
VERSION:2.0
PRODID:-//InvisionCommunity Events 5.0.18//EN
METHOD:PUBLISH
CALSCALE:GREGORIAN
REFRESH-INTERVAL:PT15M
X-PUBLISHED-TTL:PT15M
X-WR-CALNAME:London and South East (LASER)
NAME:London and South East (LASER)
BEGIN:VTIMEZONE
TZID:Europe/London
TZURL:https://tzurl.org/zoneinfo/Europe/London
X-LIC-LOCATION:Europe/London
BEGIN:DAYLIGHT
TZOFFSETFROM:+0000
TZOFFSETTO:+0100
TZNAME:BST
DTSTART:20250330T020000Z
RRULE:FREQ=YEARLY;BYMONTH=3;BYDAY=-1SU
END:DAYLIGHT
BEGIN:STANDARD
TZOFFSETFROM:+0100
TZOFFSETTO:+0000
TZNAME:GMT
DTSTART:20251026T020000Z
RRULE:FREQ=YEARLY;BYMONTH=10;BYDAY=-1SU
END:STANDARD
END:VTIMEZONE
BEGIN:VEVENT
SUMMARY:Blue Lagoon with ESN
DTSTAMP:20250413T102122Z
SEQUENCE:0
UID:9536-7-0712e666d78c35a5e0181a336d457050@bn.org.uk
ORGANIZER;CN="alanpeill1951":notifications@bn.org.uk
DESCRIPTION:\n	East Sussex Naturists invites you to enjoy the warm water
	 pools of the Blue Lagoon Eastbourne.\n\n\n\n	\n\n\n\n	 \n\n\n\n	ACCES
	S   \n\n\n\n	Sorry\, there is no hoist. Those unable to go up and down 
	the pool steps without a hoist will not be able to use the pools currently
	.\n\n\n\n	The rest of the centre is very disabled friendly with wide corri
	dors\, gentle ramps\, disabled toilets and disabled reception desk.\n\n\n\
	n	If you are uncertain please get in contact with Blue Lagoon and  a one-
	to-one appraisal of suitability for you can be arranged.\n\n\n\n	Payment o
	f £12.00 in advance to the club account. Please contact Alan for further 
	information: alanpeill@yahoo.com  07486 424068.\n\n\n\n	Information on th
	e venue at  https://eastbourne.bluelagooncentres.com/\n\n\n\n	\n\n\n\n	
	 \n\n
DTSTART:20250501T180000Z
DTEND:20250501T190000Z
END:VEVENT
END:VCALENDAR
