BEGIN:VCALENDAR
VERSION:2.0
PRODID:-//InvisionCommunity Events 5.0.18//EN
METHOD:PUBLISH
CALSCALE:GREGORIAN
REFRESH-INTERVAL:PT15M
X-PUBLISHED-TTL:PT15M
X-WR-CALNAME:London and South East (LASER)
NAME:London and South East (LASER)
BEGIN:VTIMEZONE
TZID:Europe/London
TZURL:https://tzurl.org/zoneinfo/Europe/London
X-LIC-LOCATION:Europe/London
BEGIN:DAYLIGHT
TZOFFSETFROM:+0000
TZOFFSETTO:+0100
TZNAME:BST
DTSTART:20250330T020000Z
RRULE:FREQ=YEARLY;BYMONTH=3;BYDAY=-1SU
END:DAYLIGHT
BEGIN:STANDARD
TZOFFSETFROM:+0100
TZOFFSETTO:+0000
TZNAME:GMT
DTSTART:20251026T020000Z
RRULE:FREQ=YEARLY;BYMONTH=10;BYDAY=-1SU
END:STANDARD
END:VTIMEZONE
BEGIN:VEVENT
SUMMARY:Folkstone WNBR
DTSTAMP:20250410T095805Z
SEQUENCE:0
UID:9534-7-0712e666d78c35a5e0181a336d457050@bn.org.uk
ORGANIZER;CN="DavidSmith":notifications@bn.org.uk
DESCRIPTION:\n	Time: Meet at 1pm\, ride at 2pm\n\n	Location: Meet on t
	he Green at Shearway Rd CT19 4RH\n\n\n\n	If you want some body painting do
	ne please turn up from 11am if not please turn up at the normal time of 1p
	m.\n\n\n\n	Folkestone - World Naked Bike Ride (WNBR) - Wiki information si
	te\n\n\n\n	Please note: only those events organised through BN are cover
	ed by BN’s insurance.  Participants in other events should make their 
	own enquiries regarding appropriate insurance cover for that event.\n\n
DTSTART:20250726T120000Z
END:VEVENT
END:VCALENDAR
