BEGIN:VCALENDAR
VERSION:2.0
PRODID:-//InvisionCommunity Events 5.0.18//EN
METHOD:PUBLISH
CALSCALE:GREGORIAN
REFRESH-INTERVAL:PT15M
X-PUBLISHED-TTL:PT15M
X-WR-CALNAME:South West
NAME:South West
BEGIN:VTIMEZONE
TZID:Europe/London
TZURL:https://tzurl.org/zoneinfo/Europe/London
X-LIC-LOCATION:Europe/London
BEGIN:DAYLIGHT
TZOFFSETFROM:+0000
TZOFFSETTO:+0100
TZNAME:BST
DTSTART:20250330T020000Z
RRULE:FREQ=YEARLY;BYMONTH=3;BYDAY=-1SU
END:DAYLIGHT
BEGIN:STANDARD
TZOFFSETFROM:+0100
TZOFFSETTO:+0000
TZNAME:GMT
DTSTART:20251026T020000Z
RRULE:FREQ=YEARLY;BYMONTH=10;BYDAY=-1SU
END:STANDARD
END:VTIMEZONE
BEGIN:VEVENT
SUMMARY:Naked Writing Workshop
DTSTAMP:20250403T065208Z
SEQUENCE:0
UID:9523-4-0712e666d78c35a5e0181a336d457050@bn.org.uk
ORGANIZER;CN="Andrew.Welch":notifications@bn.org.uk
DESCRIPTION:\n	Did you know that some of history’s greatest writers sw
	ore by writing in the nude? Victor Hugo ditched his clothes to avoid distr
	actions. Agatha Christie loved soaking in the bath while plotting her myst
	eries. Benjamin Franklin was known for his “air baths” as he penned hi
	s ideas.\n\n\n\n	Here is YOUR chance to strip away your inhibitions and le
	t your creativity flow in our liberating writing session for anyone keen t
	o try writing in the nude. The session will be led by poet Jon Seagrave.\n
	\n\n\n	This ground-breaking event is a curtain-raiser for the 3rd annual B
	ournemouth Writing Festival\, and is run in partnership with British Natur
	ism.\n\n\n\n	Places must be booked in advance\n\n
DTSTART:20250423T170000Z
DTEND:20250423T180000Z
END:VEVENT
END:VCALENDAR
