BEGIN:VCALENDAR
VERSION:2.0
PRODID:-//InvisionCommunity Events 5.0.18//EN
METHOD:PUBLISH
CALSCALE:GREGORIAN
REFRESH-INTERVAL:PT15M
X-PUBLISHED-TTL:PT15M
X-WR-CALNAME:Scotland and North East (SANER)
NAME:Scotland and North East (SANER)
BEGIN:VTIMEZONE
TZID:Europe/London
TZURL:https://tzurl.org/zoneinfo/Europe/London
X-LIC-LOCATION:Europe/London
BEGIN:DAYLIGHT
TZOFFSETFROM:+0000
TZOFFSETTO:+0100
TZNAME:BST
DTSTART:20250330T020000Z
RRULE:FREQ=YEARLY;BYMONTH=3;BYDAY=-1SU
END:DAYLIGHT
BEGIN:STANDARD
TZOFFSETFROM:+0100
TZOFFSETTO:+0000
TZNAME:GMT
DTSTART:20251026T020000Z
RRULE:FREQ=YEARLY;BYMONTH=10;BYDAY=-1SU
END:STANDARD
END:VTIMEZONE
BEGIN:VEVENT
SUMMARY:Edinburgh WNBR
DTSTAMP:20250402T180612Z
SEQUENCE:0
UID:9522-3-0712e666d78c35a5e0181a336d457050@bn.org.uk
ORGANIZER;CN="DavidSmith":notifications@bn.org.uk
DESCRIPTION:\n	Meet from 1300 for a 1400 start.\n\n	Location: Middle Me
	adow Walk.\n\n\n\n	Saddle covers We have saddle covers\, available on the
	 day for £2. Please email wnbredinburgh@virginmedia.com if you want one
	\, as we only have a very limited number.\n\n\n\n	For the sixth time in Ed
	inburgh\, a change in the application of the law means nudity will be poss
	ible. Last few rides we did the entire route naked. Edinburgh police have 
	backtracked a little\, they now say that if they tell us to cover up\, the
	n we have to. So\, carry a cover up\, and hope we won't have to use them. 
	The last 2 times\, there hasn't been a problem.\n\n\n\n	If your \"Bare as 
	you dare\" isn't quite up to complete nudity\, minimalist fancy dress is O
	K! Riders have worn shorts\, bras\, swimwear\, body paint\, wigs\, sunglas
	ses etc. Most wear footwear. We can be naked if we want to. But it's up to
	 you! :) Bring a bag to carry your clothes\, as we can't promise they wo
	uld still be there on your return if you left them in the Meadows. If your
	 bike breaks down and you don't have something to wear you will be naked a
	nd alone in the middle of Edinburgh... It would be legal to push it back t
	o the start naked\, but you might not feel confident doing this. (Although
	 we are nice people\, and it's a small ride\, so we probably would try to 
	get you a cover up\, or someone to chum you back to your kit.)\n\n\n\n	Bod
	y painting and adornment\, customised bikes and other creative expression 
	are all strongly encouraged. It is ok to put a flag or banner on your bike
	\, just make sure that it is secure\, any pole is light weight\, not usa
	ble as a weapon and not likely to get caught in the machinery!\n\n\n\n	For
	 more information visit the website Edinburgh - World Naked Bike Ride (WN
	BR) - Wiki information site\n\n\n\n	Please note: only those events organis
	ed through BN are covered by BN’s insurance.  Participants in other 
	events should make their own enquiries regarding appropriate insurance cov
	er for that event.\n\n
DTSTART:20250705T120000Z
END:VEVENT
END:VCALENDAR
