BEGIN:VCALENDAR
VERSION:2.0
PRODID:-//InvisionCommunity Events 5.0.18//EN
METHOD:PUBLISH
CALSCALE:GREGORIAN
REFRESH-INTERVAL:PT15M
X-PUBLISHED-TTL:PT15M
X-WR-CALNAME:North West
NAME:North West
BEGIN:VTIMEZONE
TZID:Europe/London
TZURL:https://tzurl.org/zoneinfo/Europe/London
X-LIC-LOCATION:Europe/London
BEGIN:DAYLIGHT
TZOFFSETFROM:+0000
TZOFFSETTO:+0100
TZNAME:BST
DTSTART:20250330T020000Z
RRULE:FREQ=YEARLY;BYMONTH=3;BYDAY=-1SU
END:DAYLIGHT
BEGIN:STANDARD
TZOFFSETFROM:+0100
TZOFFSETTO:+0000
TZNAME:GMT
DTSTART:20251026T020000Z
RRULE:FREQ=YEARLY;BYMONTH=10;BYDAY=-1SU
END:STANDARD
END:VTIMEZONE
BEGIN:VEVENT
SUMMARY:M.S.A.S. NW Bowls Event
DTSTAMP:20250401T165049Z
SEQUENCE:0
UID:9516-5-0712e666d78c35a5e0181a336d457050@bn.org.uk
ORGANIZER;CN="Ron.O":notifications@bn.org.uk
DESCRIPTION:\n	Manchester Sun &amp\; Air Club -  Annual BN North West 
	 Bowls Competition. \n\n\n\n	All North West BN Members &amp\; BN Club Mem
	bers are welcome to visit to play or spectate.\n\n\n\n	Sunday 27th July - 
	Day visits are free of charge.\n\n\n\n	Please contact the club to book if 
	you intend to play. \n\n\n\n	\n\n	Manchester Sun &amp\; Air Society\, Sp
	ringfield\, Sandy Lane/Middlewich Road\, Lower Peover\, Knutsford\, WA
	16 9JF\n\n\n\n	\n\n
DTSTART:20250727T090000Z
DTEND:20250727T160000Z
END:VEVENT
END:VCALENDAR
