BEGIN:VCALENDAR
VERSION:2.0
PRODID:-//InvisionCommunity Events 5.0.18//EN
METHOD:PUBLISH
CALSCALE:GREGORIAN
REFRESH-INTERVAL:PT15M
X-PUBLISHED-TTL:PT15M
X-WR-CALNAME:North West
NAME:North West
BEGIN:VTIMEZONE
TZID:Europe/London
TZURL:https://tzurl.org/zoneinfo/Europe/London
X-LIC-LOCATION:Europe/London
BEGIN:DAYLIGHT
TZOFFSETFROM:+0000
TZOFFSETTO:+0100
TZNAME:BST
DTSTART:20250330T020000Z
RRULE:FREQ=YEARLY;BYMONTH=3;BYDAY=-1SU
END:DAYLIGHT
BEGIN:STANDARD
TZOFFSETFROM:+0100
TZOFFSETTO:+0000
TZNAME:GMT
DTSTART:20251026T020000Z
RRULE:FREQ=YEARLY;BYMONTH=10;BYDAY=-1SU
END:STANDARD
END:VTIMEZONE
BEGIN:VEVENT
SUMMARY:St Annes Beach
DTSTAMP:20250330T212744Z
SEQUENCE:0
UID:9514-5-0712e666d78c35a5e0181a336d457050@bn.org.uk
ORGANIZER;CN="George.Booth":notifications@bn.org.uk
DESCRIPTION:\n	Join us on the fabulous St Annes beach just south of Blac
	kpool. All beach days are subject to weather.\n\n\n\n	Directions for Beac
	h Day\, from 11am. \n\n\n\n	To find the location\, from the end of the M5
	5\, follow the signs for the airport. Pass the airport and when you get to
	 the end of the road turn left. (Clifton Dr North). After about half a mil
	e\, you'll see a large red brick building on your right. (New Thursby Care
	 Home). Continue south through the traffic lights and turn right into the 
	North Beach Car Park\, FY8 2TR behind the Coastguard Station. The What3Wor
	ds location for the car park is\, blows.preoccupied.lives  From there yo
	u walk out to the beach and turn right. At the front of the dunes is a lin
	e of wooden posts. Every so far\, numbered bins are attached to the posts.
	 We meet just past number 5. (Blackpool side). Alternatively\, if you use 
	the What3Words App\, look for woes.model.names This will take you to the
	 right spot.\n\n\n\n	Don't forget your picnic\, a windbreak if you have on
	e\, and of course your sun block. The sun is pretty fierce on the Fylde Co
	ast Riviera.\n\n\n\n	Don't forget our swim at Poulton-le-Fylde takes place
	 in the evening if you'd like to come along. No need to book\, just turn u
	p. If you've not been before\, please bring some form of I.D. for your fir
	st visit. (BN cards welcome). Details here: \n\n\n\n	George\n\n
DTSTART:20250503T100000Z
DTEND:20250503T150000Z
END:VEVENT
END:VCALENDAR
