BEGIN:VCALENDAR
VERSION:2.0
PRODID:-//InvisionCommunity Events 5.0.18//EN
METHOD:PUBLISH
CALSCALE:GREGORIAN
REFRESH-INTERVAL:PT15M
X-PUBLISHED-TTL:PT15M
X-WR-CALNAME:Eastern
NAME:Eastern
BEGIN:VTIMEZONE
TZID:Europe/London
TZURL:https://tzurl.org/zoneinfo/Europe/London
X-LIC-LOCATION:Europe/London
BEGIN:DAYLIGHT
TZOFFSETFROM:+0000
TZOFFSETTO:+0100
TZNAME:BST
DTSTART:20250330T020000Z
RRULE:FREQ=YEARLY;BYMONTH=3;BYDAY=-1SU
END:DAYLIGHT
BEGIN:STANDARD
TZOFFSETFROM:+0100
TZOFFSETTO:+0000
TZNAME:GMT
DTSTART:20251026T020000Z
RRULE:FREQ=YEARLY;BYMONTH=10;BYDAY=-1SU
END:STANDARD
END:VTIMEZONE
BEGIN:VEVENT
SUMMARY:Clacton WNBR
DTSTAMP:20250329T171735Z
SEQUENCE:0
UID:9513-8-0712e666d78c35a5e0181a336d457050@bn.org.uk
ORGANIZER;CN="DavidSmith":notifications@bn.org.uk
DESCRIPTION:\n	Time: Assemble 1pm\, Ride departs 2pm\n	Location: Toby 
	Carvery Marine Parade West CO15 Car Park\n\n\n\n	Come as bare as you dare.
	 Nudity makes a great statement\, and many of us will be completely naked\
	, but if you're more comfortable in a little clothing\, that's fine too. I
	n previous years\, riders have worn shorts\, bras\, swimwear\, body paint\
	, wigs\, sunglasses etc. Most wear footwear and bring bags to carry clothe
	s. Body painting and adornment\, customised bikes and other creative expre
	ssion are all strongly encouraged.\n\n\n\n	For more information see the we
	bsite Clacton - World Naked Bike Ride (WNBR) - Wiki information site \n\
	n\n\n	Please note: only those events organised through BN are covered b
	y BN’s insurance.  Participants in other events should make their own 
	enquiries regarding appropriate insurance cover for that event.\n\n
DTSTART:20250726T120000Z
END:VEVENT
END:VCALENDAR
