BEGIN:VCALENDAR
VERSION:2.0
PRODID:-//InvisionCommunity Events 5.0.18//EN
METHOD:PUBLISH
CALSCALE:GREGORIAN
REFRESH-INTERVAL:PT15M
X-PUBLISHED-TTL:PT15M
X-WR-CALNAME:London and South East (LASER)
NAME:London and South East (LASER)
BEGIN:VTIMEZONE
TZID:Europe/London
TZURL:https://tzurl.org/zoneinfo/Europe/London
X-LIC-LOCATION:Europe/London
BEGIN:DAYLIGHT
TZOFFSETFROM:+0000
TZOFFSETTO:+0100
TZNAME:BST
DTSTART:20250330T020000Z
RRULE:FREQ=YEARLY;BYMONTH=3;BYDAY=-1SU
END:DAYLIGHT
BEGIN:STANDARD
TZOFFSETFROM:+0100
TZOFFSETTO:+0000
TZNAME:GMT
DTSTART:20251026T020000Z
RRULE:FREQ=YEARLY;BYMONTH=10;BYDAY=-1SU
END:STANDARD
END:VTIMEZONE
BEGIN:VEVENT
SUMMARY:Portsmouth WNBR
DTSTAMP:20250329T171420Z
SEQUENCE:0
UID:9512-7-0712e666d78c35a5e0181a336d457050@bn.org.uk
ORGANIZER;CN="DavidSmith":notifications@bn.org.uk
DESCRIPTION:\n	Please Note: The below info will be updated in April\n\n\
	n\n	Start: Foxes Forest\, Peronne Road\, Hilsea Lines. Find us via map
	 or what3words ///bubble.slowly.wisdom.\n\n	Assemble from: 11:00\n\n	Set
	-off: 13:15\n\n	Public Toilets less than 5 Min Walk away\n\n\n\n	WNBR is a
	 fun\, inspirational\, non-confrontational body-positive event with a posi
	tive message of hope. That is why the ride has been such a huge hit and so
	 many are supportive. Just use common sense and mind your manners! Nude is
	 not lewd!\n\n\n\n	Since most of us did not grow up in a body-positive soc
	iety\, many will look at you with curiosity and amusement. You will probab
	ly notice that different sections of town have different cultural reaction
	s to nudity. Some may feel mildly intimidated because they still might hav
	e issues with their own bodies and your shameless ways are unsettling to t
	heir body-phobic world. Just be friendly and respectful and things should 
	be fine. Remember we are all human and we all have the same parts.\n\n\n\n
		For more information see the website Portsmouth - World Naked Bike Ride 
	(WNBR) - Wiki information site \n\n\n\n	Please note: only those events or
	ganised through BN are covered by BN’s insurance.  Participants in o
	ther events should make their own enquiries regarding appropriate insuranc
	e cover for that event.\n\n
DTSTART:20250719T100000Z
END:VEVENT
END:VCALENDAR
