BEGIN:VCALENDAR
VERSION:2.0
PRODID:-//InvisionCommunity Events 5.0.18//EN
METHOD:PUBLISH
CALSCALE:GREGORIAN
REFRESH-INTERVAL:PT15M
X-PUBLISHED-TTL:PT15M
X-WR-CALNAME:Eastern
NAME:Eastern
BEGIN:VTIMEZONE
TZID:Europe/London
TZURL:https://tzurl.org/zoneinfo/Europe/London
X-LIC-LOCATION:Europe/London
BEGIN:DAYLIGHT
TZOFFSETFROM:+0000
TZOFFSETTO:+0100
TZNAME:BST
DTSTART:20250330T020000Z
RRULE:FREQ=YEARLY;BYMONTH=3;BYDAY=-1SU
END:DAYLIGHT
BEGIN:STANDARD
TZOFFSETFROM:+0100
TZOFFSETTO:+0000
TZNAME:GMT
DTSTART:20251026T020000Z
RRULE:FREQ=YEARLY;BYMONTH=10;BYDAY=-1SU
END:STANDARD
END:VTIMEZONE
BEGIN:VEVENT
SUMMARY:Chelmsford WNBR
DTSTAMP:20250329T170110Z
SEQUENCE:0
UID:9509-8-0712e666d78c35a5e0181a336d457050@bn.org.uk
ORGANIZER;CN="DavidSmith":notifications@bn.org.uk
DESCRIPTION:\n	Time: Assemble 2pm\, Ride departs 3pm\n	Location: Marke
	t Square\, High Chelmer\, Chelmsford CM1 1XF\n\n\n\n	Come as bare as you d
	are. Nudity makes a great statement\, and many of us will be completely na
	ked\, but if you're more comfortable in a little clothing\, that's fine to
	o. In previous years\, riders have worn shorts\, bras\, swimwear\, body pa
	int\, wigs\, sunglasses\, etc. Most wear footwear and bring bags to carry 
	clothes. Body painting and adornment\, customised bikes and other creative
	 expression are all strongly encouraged.\n\n\n\n	For more information see 
	the website Chelmsford - World Naked Bike Ride (WNBR) - Wiki information 
	site  \n\n\n\n	Please note: only those events organised through BN are
	 covered by BN’s insurance.  Participants in other events should make 
	their own enquiries regarding appropriate insurance cover for that event.\
	n\n
DTSTART:20250628T130000Z
END:VEVENT
END:VCALENDAR
