BEGIN:VCALENDAR
VERSION:2.0
PRODID:-//InvisionCommunity Events 5.0.18//EN
METHOD:PUBLISH
CALSCALE:GREGORIAN
REFRESH-INTERVAL:PT15M
X-PUBLISHED-TTL:PT15M
X-WR-CALNAME:South West
NAME:South West
BEGIN:VTIMEZONE
TZID:Europe/London
TZURL:https://tzurl.org/zoneinfo/Europe/London
X-LIC-LOCATION:Europe/London
BEGIN:DAYLIGHT
TZOFFSETFROM:+0000
TZOFFSETTO:+0100
TZNAME:BST
DTSTART:20250330T020000Z
RRULE:FREQ=YEARLY;BYMONTH=3;BYDAY=-1SU
END:DAYLIGHT
BEGIN:STANDARD
TZOFFSETFROM:+0100
TZOFFSETTO:+0000
TZNAME:GMT
DTSTART:20251026T020000Z
RRULE:FREQ=YEARLY;BYMONTH=10;BYDAY=-1SU
END:STANDARD
END:VTIMEZONE
BEGIN:VEVENT
SUMMARY:Cardiff WNBR
DTSTAMP:20250329T165151Z
SEQUENCE:0
UID:9507-4-0712e666d78c35a5e0181a336d457050@bn.org.uk
ORGANIZER;CN="DavidSmith":notifications@bn.org.uk
DESCRIPTION:\n	\n\n\n\n	WNBR Cardiff - Ride one Sunday 8th June 2025.\n\
	n\n\n	I weld y tudalen hwn yn Gymraeg\, dilyner y ddolen hon Cy:Caerdyd
	d  \n\n\n\n	For details see website  Cardiff - World Naked Bike Ride (
	WNBR) - Wiki information site \n\n\n\n	Please note: only those events org
	anised through BN are covered by BN’s insurance.  Participants in ot
	her events should make their own enquiries regarding appropriate insurance
	 cover for that event.\n\n\n\n	 \n\n
DTSTART:20250608T113000Z
END:VEVENT
END:VCALENDAR
