BEGIN:VCALENDAR
VERSION:2.0
PRODID:-//InvisionCommunity Events 5.0.18//EN
METHOD:PUBLISH
CALSCALE:GREGORIAN
REFRESH-INTERVAL:PT15M
X-PUBLISHED-TTL:PT15M
X-WR-CALNAME:London and South East (LASER)
NAME:London and South East (LASER)
BEGIN:VTIMEZONE
TZID:Europe/London
TZURL:https://tzurl.org/zoneinfo/Europe/London
X-LIC-LOCATION:Europe/London
BEGIN:DAYLIGHT
TZOFFSETFROM:+0000
TZOFFSETTO:+0100
TZNAME:BST
DTSTART:20250330T020000Z
RRULE:FREQ=YEARLY;BYMONTH=3;BYDAY=-1SU
END:DAYLIGHT
BEGIN:STANDARD
TZOFFSETFROM:+0100
TZOFFSETTO:+0000
TZNAME:GMT
DTSTART:20251026T020000Z
RRULE:FREQ=YEARLY;BYMONTH=10;BYDAY=-1SU
END:STANDARD
END:VTIMEZONE
BEGIN:VEVENT
SUMMARY:London WNBR
DTSTAMP:20250329T151512Z
SEQUENCE:0
UID:9506-7-0712e666d78c35a5e0181a336d457050@bn.org.uk
ORGANIZER;CN="DavidSmith":notifications@bn.org.uk
DESCRIPTION:\n	\n\n\n\n	You don’t need to sign up to participate in WN
	BR London. You just need to be in the right place at the right time with a
	 bike to ride. You are invited to register your interest on our Facebook e
	vents so that we can see how popular they are and you can invite all your 
	friends to join you.\n\n\n\n	For further details go to the website  Worl
	d Naked Bike Ride London | WNBR London \n\n\n\n	This is not a BN organise
	d event\, participants should make their own enquiries regarding appropria
	te insurance cover.\n\n\n\n	 \n\n\n\n	 \n\n\n\n	 \n\n
DTSTART:20250614T133000Z
DTEND:20250614T150000Z
END:VEVENT
END:VCALENDAR
