BEGIN:VCALENDAR
VERSION:2.0
PRODID:-//InvisionCommunity Events 5.0.18//EN
METHOD:PUBLISH
CALSCALE:GREGORIAN
REFRESH-INTERVAL:PT15M
X-PUBLISHED-TTL:PT15M
X-WR-CALNAME:North West
NAME:North West
BEGIN:VTIMEZONE
TZID:Europe/London
TZURL:https://tzurl.org/zoneinfo/Europe/London
X-LIC-LOCATION:Europe/London
BEGIN:DAYLIGHT
TZOFFSETFROM:+0000
TZOFFSETTO:+0100
TZNAME:BST
DTSTART:20250330T020000Z
RRULE:FREQ=YEARLY;BYMONTH=3;BYDAY=-1SU
END:DAYLIGHT
BEGIN:STANDARD
TZOFFSETFROM:+0100
TZOFFSETTO:+0000
TZNAME:GMT
DTSTART:20251026T020000Z
RRULE:FREQ=YEARLY;BYMONTH=10;BYDAY=-1SU
END:STANDARD
END:VTIMEZONE
BEGIN:VEVENT
SUMMARY:Naturist Bar Evening in Macclesfield
DTSTAMP:20250328T192021Z
SEQUENCE:0
UID:9504-5-0712e666d78c35a5e0181a336d457050@bn.org.uk
ORGANIZER;CN="Ron.O":notifications@bn.org.uk
DESCRIPTION:\n	Macclesfield Monthly Naturist Bar evening. 7-10 pm.\n\n\n
	\n	Please feel welcome to attend the G&amp\;T Bar on the 3rd Saturday of e
	ach Month.\n\n\n\n	Be sure to book a visit at: https://www.eventbrite.com
	/o/gt-109118664001 \n\n\n\n	Enquiries to gandtmacc@gmail.com\n\n\n\n	The
	re is a £5 deposit required\, but that will be deducted from your first d
	rink. Entrance is free of charge.\n\n\n\n	Our location is at 23\, Back Wal
	l Gate\, Macclesfield. Postcode: SK11 6LQ. W3Ws: metro.harsh.locals\n\n\n
	\n	The capacity is 20 persons.\n\n\n\n	Clothed Friends &amp\; Partners of 
	Naturists are most welcome to attend.\n\n\n\n	G&amp\;T is a quirky bar in 
	Macclesfield that has recently been purchased by Neil and his friend Milli
	e\, Neil being one of 4 naturists that cycled 1\,000 miles naked from Land
	's End to John O'Groats in 2022. Millie runs the day-to-day and staffs the
	 bar\, and whilst she prefers to be dressed\, we're both excited to try an
	d make this a regular safe space for naturists. Although primarily a cockt
	ail\, gin and wine bar\; we also have plenty of bottled and canned beers a
	vailable and we are looking into the possibility of installing lines for d
	raft beer. Discussions are also in place with local take-aways to provide 
	food opportunities for the evening.\n\n\n\n	\n\n
DTSTART:20250517T180000Z
DTEND:20250517T210000Z
END:VEVENT
END:VCALENDAR
