BEGIN:VCALENDAR
VERSION:2.0
PRODID:-//InvisionCommunity Events 5.0.18//EN
METHOD:PUBLISH
CALSCALE:GREGORIAN
REFRESH-INTERVAL:PT15M
X-PUBLISHED-TTL:PT15M
X-WR-CALNAME:London and South East (LASER)
NAME:London and South East (LASER)
BEGIN:VTIMEZONE
TZID:Europe/London
TZURL:https://tzurl.org/zoneinfo/Europe/London
X-LIC-LOCATION:Europe/London
BEGIN:DAYLIGHT
TZOFFSETFROM:+0000
TZOFFSETTO:+0100
TZNAME:BST
DTSTART:20250330T020000Z
RRULE:FREQ=YEARLY;BYMONTH=3;BYDAY=-1SU
END:DAYLIGHT
BEGIN:STANDARD
TZOFFSETFROM:+0100
TZOFFSETTO:+0000
TZNAME:GMT
DTSTART:20251026T020000Z
RRULE:FREQ=YEARLY;BYMONTH=10;BYDAY=-1SU
END:STANDARD
END:VTIMEZONE
BEGIN:VEVENT
SUMMARY:The BN Pottery Throwdown!!!
DTSTAMP:20250325T163757Z
SEQUENCE:0
UID:9500-7-0712e666d78c35a5e0181a336d457050@bn.org.uk
ORGANIZER;CN="AndynPatti":notifications@bn.org.uk
DESCRIPTION:\n	Try your hand at pottery with tuition in SW London. We ha
	ve two sessions for two groups with an hour social in the middle. Session 
	1 is 11am to 1.30pm then an hours social for both groups. Session 2 will s
	tart after the social at 2.30 and runs till 5pm. Julia will be giving tuit
	ion in making a piece but if anyone has experience and wants a go on the w
	heel unassisted they are welcome. Tickets are on sale now here at £35 a h
	ead. The event will be at the Village Pottery in Shepperton Village Potte
	ry link\n\n\n\n	It's about 50 minutes by train from Waterloo to Upper Hall
	iford station with lots of stops en route (Wimbledon\, Kingston etc). Foll
	owed by just under a mile walk.\n\n
DTSTART:20250601T100000Z
DTEND:20250601T160000Z
END:VEVENT
END:VCALENDAR
