BEGIN:VCALENDAR
VERSION:2.0
PRODID:-//InvisionCommunity Events 5.0.18//EN
METHOD:PUBLISH
CALSCALE:GREGORIAN
REFRESH-INTERVAL:PT15M
X-PUBLISHED-TTL:PT15M
X-WR-CALNAME:North West
NAME:North West
BEGIN:VTIMEZONE
TZID:Europe/London
TZURL:https://tzurl.org/zoneinfo/Europe/London
X-LIC-LOCATION:Europe/London
BEGIN:DAYLIGHT
TZOFFSETFROM:+0000
TZOFFSETTO:+0100
TZNAME:BST
DTSTART:20250330T020000Z
RRULE:FREQ=YEARLY;BYMONTH=3;BYDAY=-1SU
END:DAYLIGHT
BEGIN:STANDARD
TZOFFSETFROM:+0100
TZOFFSETTO:+0000
TZNAME:GMT
DTSTART:20251026T020000Z
RRULE:FREQ=YEARLY;BYMONTH=10;BYDAY=-1SU
END:STANDARD
END:VTIMEZONE
BEGIN:VEVENT
SUMMARY:Christian Naturist Fellowship at Telford
DTSTAMP:20250321T171618Z
SEQUENCE:0
UID:9498-5-0712e666d78c35a5e0181a336d457050@bn.org.uk
ORGANIZER;CN="Nigel_Newman":notifications@bn.org.uk
DESCRIPTION:\n	The Christian Naturist Fellowship are holding two face-to
	-face meetings this year:\n\n\n\n	\n		7-8 June at Telford Naturist Club\, 
	and \n	\n	\n		1-3 August at the Naturist Foundation in Kent.\n	\n\n\n\n	T
	hese are open to any naturists who would like to attend.\n\n\n\n	The CNF m
	eetings are free to attend but you will need to book and pay for a day-pas
	s for the Naturist venue.\n\n\n\n	For more information visit our website: 
	cnfellowship.org\n\n
DTSTART;VALUE=DATE:20250607
DTEND;VALUE=DATE:20250609
END:VEVENT
END:VCALENDAR
