BEGIN:VCALENDAR
VERSION:2.0
PRODID:-//InvisionCommunity Events 5.0.18//EN
METHOD:PUBLISH
CALSCALE:GREGORIAN
REFRESH-INTERVAL:PT15M
X-PUBLISHED-TTL:PT15M
X-WR-CALNAME:Eastern
NAME:Eastern
BEGIN:VTIMEZONE
TZID:Europe/London
TZURL:https://tzurl.org/zoneinfo/Europe/London
X-LIC-LOCATION:Europe/London
BEGIN:DAYLIGHT
TZOFFSETFROM:+0000
TZOFFSETTO:+0100
TZNAME:BST
DTSTART:20250330T020000Z
RRULE:FREQ=YEARLY;BYMONTH=3;BYDAY=-1SU
END:DAYLIGHT
BEGIN:STANDARD
TZOFFSETFROM:+0100
TZOFFSETTO:+0000
TZNAME:GMT
DTSTART:20251026T020000Z
RRULE:FREQ=YEARLY;BYMONTH=10;BYDAY=-1SU
END:STANDARD
END:VTIMEZONE
BEGIN:VEVENT
SUMMARY:Active Waters Wild Swimming - nr Huntingdon\, Cambridgeshire
DTSTAMP:20250320T162319Z
SEQUENCE:0
UID:9493-8-0712e666d78c35a5e0181a336d457050@bn.org.uk
ORGANIZER;CN="Nigel_Newman":notifications@bn.org.uk
DESCRIPTION:\n	Lake Ashmor\, near Huntingdon in Cambridgeshire\, is a st
	unning man-made lake which offers treated water to ensure a beautifully cl
	ean swim. The lake is approximately 1 mile in diameter with a designated s
	wim course of 800 meters. \n\n\n\n	 \n\n\n\n	Active Waters Wild Swimming
	 is hosting four bespoke events over the summer\, exclusive to Naturists t
	o ensure a relaxed and safe environment to enjoy a swim. Lifeguards will b
	e on duty to ensure the safety of all swimmers. Bargain price of £10 per 
	session. Must be a competent swimmer. \n\n\n\n	 \n\n\n\n	For more inform
	ation and how to book\, checkout the Eastern Region newspage on the BN web
	site: \n\n\n\n	 \n\n\n\n\n	 \n\n
DTSTART:20250602T160000Z
DTEND:20250602T180000Z
END:VEVENT
END:VCALENDAR
