BEGIN:VCALENDAR
VERSION:2.0
PRODID:-//InvisionCommunity Events 5.0.18//EN
METHOD:PUBLISH
CALSCALE:GREGORIAN
REFRESH-INTERVAL:PT15M
X-PUBLISHED-TTL:PT15M
X-WR-CALNAME:London and South East (LASER)
NAME:London and South East (LASER)
BEGIN:VTIMEZONE
TZID:Europe/London
TZURL:https://tzurl.org/zoneinfo/Europe/London
X-LIC-LOCATION:Europe/London
BEGIN:DAYLIGHT
TZOFFSETFROM:+0000
TZOFFSETTO:+0100
TZNAME:BST
DTSTART:20250330T020000Z
RRULE:FREQ=YEARLY;BYMONTH=3;BYDAY=-1SU
END:DAYLIGHT
BEGIN:STANDARD
TZOFFSETFROM:+0100
TZOFFSETTO:+0000
TZNAME:GMT
DTSTART:20251026T020000Z
RRULE:FREQ=YEARLY;BYMONTH=10;BYDAY=-1SU
END:STANDARD
END:VTIMEZONE
BEGIN:VEVENT
SUMMARY:Clothing Optional Music Weekend - CANCELLED
DTSTAMP:20250317T151939Z
SEQUENCE:0
UID:9453-7-0712e666d78c35a5e0181a336d457050@bn.org.uk
ORGANIZER;CN="Alana":notifications@bn.org.uk
DESCRIPTION:Sorry this event is cancelled.Clothing Optional Music Weeken
	d.The weekend of 30th-31st August 2025\, at Blue Caps farm\, near Wadhurst
	\, East Sussex.
DTSTART;VALUE=DATE:20250829
DTEND;VALUE=DATE:20250902
END:VEVENT
END:VCALENDAR
