BEGIN:VCALENDAR
VERSION:2.0
PRODID:-//InvisionCommunity Events 5.0.18//EN
METHOD:PUBLISH
CALSCALE:GREGORIAN
REFRESH-INTERVAL:PT15M
X-PUBLISHED-TTL:PT15M
X-WR-CALNAME:North West
NAME:North West
BEGIN:VTIMEZONE
TZID:Europe/London
TZURL:https://tzurl.org/zoneinfo/Europe/London
X-LIC-LOCATION:Europe/London
BEGIN:DAYLIGHT
TZOFFSETFROM:+0000
TZOFFSETTO:+0100
TZNAME:BST
DTSTART:20250330T020000Z
RRULE:FREQ=YEARLY;BYMONTH=3;BYDAY=-1SU
END:DAYLIGHT
BEGIN:STANDARD
TZOFFSETFROM:+0100
TZOFFSETTO:+0000
TZNAME:GMT
DTSTART:20251026T020000Z
RRULE:FREQ=YEARLY;BYMONTH=10;BYDAY=-1SU
END:STANDARD
END:VTIMEZONE
BEGIN:VEVENT
SUMMARY:Karaoke Evening @ Liverpool Sun & Air
DTSTAMP:20250310T093259Z
SEQUENCE:0
UID:9432-5-0712e666d78c35a5e0181a336d457050@bn.org.uk
ORGANIZER;CN="Grandma Jane":notifications@bn.org.uk
DESCRIPTION:\n	Karaoke Evening\n\n\n\n	\n		21 June @ 7:00 pm - 11:30 p
	m\n	\n\n	\n		All events are open to members and non-members\n	\n\n	\n		 \
	n	\n\n	\n		 \n	\n\n	\n		Supper Menu\n	\n\n	\n		Succulent Beef Burger serv
	ed with Skin on Fries\n	\n\n	\n		or\n	\n\n	\n		Deep Fried Scampi with Skin
	 on Fries\n	\n\n	\n		Vegetarian – Halloumi encased with Breadcrumbs with
	 Skin on Fries\n	\n\n	\n		oOoOoOo\n	\n\n	\n		Selection of Tasty Desserts\n
		\n\n	\n		£10.00 per person\n	\n\n	\n		 \n	\n\n	\n		Remember to place yo
	ur menu choice by the closing date\n	\n\n	\n		Email: bookings@lsas.org.u
	k Tel : 07564 336332\n	\n\n	\n		Bacs – LSAS   S/C 40-24-40    Acc 
	11117823   Ref: Karaoke\n	\n\n	\n		Payment must be made within 48hrs of 
	booking to confirm.\n	\n\n	\n		Closing date for bookings is Wednesday 18th
	 June.\n	\n\n	\n		 \n	\n\n
DTSTART;VALUE=DATE:20250621
END:VEVENT
END:VCALENDAR
