BEGIN:VCALENDAR
VERSION:2.0
PRODID:-//InvisionCommunity Events 5.0.18//EN
METHOD:PUBLISH
CALSCALE:GREGORIAN
REFRESH-INTERVAL:PT15M
X-PUBLISHED-TTL:PT15M
X-WR-CALNAME:North West
NAME:North West
BEGIN:VTIMEZONE
TZID:Europe/London
TZURL:https://tzurl.org/zoneinfo/Europe/London
X-LIC-LOCATION:Europe/London
BEGIN:DAYLIGHT
TZOFFSETFROM:+0000
TZOFFSETTO:+0100
TZNAME:BST
DTSTART:20250330T020000Z
RRULE:FREQ=YEARLY;BYMONTH=3;BYDAY=-1SU
END:DAYLIGHT
BEGIN:STANDARD
TZOFFSETFROM:+0100
TZOFFSETTO:+0000
TZNAME:GMT
DTSTART:20251026T020000Z
RRULE:FREQ=YEARLY;BYMONTH=10;BYDAY=-1SU
END:STANDARD
END:VTIMEZONE
BEGIN:VEVENT
SUMMARY:Lancashire Sun Ladies Weekend
DTSTAMP:20250310T092959Z
SEQUENCE:0
UID:9431-5-0712e666d78c35a5e0181a336d457050@bn.org.uk
ORGANIZER;CN="Ron.O":notifications@bn.org.uk
DESCRIPTION:\n	Lancashire Sun Ladies Weekend.\n\n\n\n	Lancashire Sun wel
	comes Females to visit our fabulous club totally free of charge in suppor
	t of the BN 'Women in Naturism' campaign\, and enjoy our amazing facilitie
	s including the solar heated Pool and Hot Tub. Partners are welcome if the
	y pay the normal day visitor fee of £12. Use of the Sauna is available f
	or a small donation.\n\n\n\n	View our incredible Drone video here\n\n\n\n	
	Please be sure to book in advance via email to: lancashiresunenquiries@gma
	il.com \n\n\n\n	M. 07761875675\n\n\n\n	Please note: All first time visito
	rs are asked to produce  proof of ID and address.\n\n\n\n	\n\n\n\n	\n\n\n
	\n	 \n\n
DTSTART:20250510T090000Z
DTEND:20250511T210000Z
END:VEVENT
END:VCALENDAR
