BEGIN:VCALENDAR
VERSION:2.0
PRODID:-//InvisionCommunity Events 5.0.18//EN
METHOD:PUBLISH
CALSCALE:GREGORIAN
REFRESH-INTERVAL:PT15M
X-PUBLISHED-TTL:PT15M
X-WR-CALNAME:North West
NAME:North West
BEGIN:VTIMEZONE
TZID:Europe/London
TZURL:https://tzurl.org/zoneinfo/Europe/London
X-LIC-LOCATION:Europe/London
BEGIN:DAYLIGHT
TZOFFSETFROM:+0000
TZOFFSETTO:+0100
TZNAME:BST
DTSTART:20250330T020000Z
RRULE:FREQ=YEARLY;BYMONTH=3;BYDAY=-1SU
END:DAYLIGHT
BEGIN:STANDARD
TZOFFSETFROM:+0100
TZOFFSETTO:+0000
TZNAME:GMT
DTSTART:20251026T020000Z
RRULE:FREQ=YEARLY;BYMONTH=10;BYDAY=-1SU
END:STANDARD
END:VTIMEZONE
BEGIN:VEVENT
SUMMARY:Meditation Retreat @ Liverpool Sun & Air
DTSTAMP:20250310T092947Z
SEQUENCE:0
UID:9430-5-0712e666d78c35a5e0181a336d457050@bn.org.uk
ORGANIZER;CN="Grandma Jane":notifications@bn.org.uk
DESCRIPTION:\n	Saturday 7th June\, A day of ‘Meditation and Relaxati
	on' @ Liverpool Sun &amp\; Air Society (see below)\n\n\n\n	Sunday 8th J
	une pre-booked One-to-One sessions with the organisers (see below) to be b
	ooked direct with Katherine.\n\n\n\n	 \n\n\n\n	Day visitors and those wis
	hing to camp please book with the ‘Visitor Team’s\n\n\n\n	Prices -  D
	ay visit £14 plus £15 for the Retreat\, £29 in total on the Saturday.\n
	\n\n\n	Camping see website\, Liverpool Sun &amp\; Air – Naturist Organi
	sation\, Liverpool \,for details.\n\n\n\n	 \n\n\n\n	Lunch is available o
	n Saturday\, Soup &amp\; Sandwich @ £7.50 pp\, please book on the day be
	fore 10.00.\n\n\n\n	 \n\n\n\n	Booking for Camping / Day Visits info@lsas
	.org.uk or +44 (0)7947 480 707\n\n\n\n	Details of the day shown below -\n
	\n\n\n	\n\n
DTSTART;VALUE=DATE:20250607
DTEND;VALUE=DATE:20250609
END:VEVENT
END:VCALENDAR
