BEGIN:VCALENDAR
VERSION:2.0
PRODID:-//InvisionCommunity Events 5.0.18//EN
METHOD:PUBLISH
CALSCALE:GREGORIAN
REFRESH-INTERVAL:PT15M
X-PUBLISHED-TTL:PT15M
X-WR-CALNAME:North West
NAME:North West
BEGIN:VTIMEZONE
TZID:Europe/London
TZURL:https://tzurl.org/zoneinfo/Europe/London
X-LIC-LOCATION:Europe/London
BEGIN:DAYLIGHT
TZOFFSETFROM:+0000
TZOFFSETTO:+0100
TZNAME:BST
DTSTART:20250330T020000Z
RRULE:FREQ=YEARLY;BYMONTH=3;BYDAY=-1SU
END:DAYLIGHT
BEGIN:STANDARD
TZOFFSETFROM:+0100
TZOFFSETTO:+0000
TZNAME:GMT
DTSTART:20251026T020000Z
RRULE:FREQ=YEARLY;BYMONTH=10;BYDAY=-1SU
END:STANDARD
END:VTIMEZONE
BEGIN:VEVENT
SUMMARY:Mad Hatters comes to Liverpool Sun and Air with a Bucks Fizz
	 Afternoon Tea
DTSTAMP:20250310T092631Z
SEQUENCE:0
UID:9429-5-0712e666d78c35a5e0181a336d457050@bn.org.uk
ORGANIZER;CN="Grandma Jane":notifications@bn.org.uk
DESCRIPTION:\n	All events are open to members and non-members\n\n\n\n	Ma
	d Hatters Afternoon Tea\n\n\n\n	25 May @ 2:00 pm - 4:00 pm\n\n\n\n	After
	noon Tea with a Twist\n\n\n\n	Selection of Finger Sandwiches\n\n\n\n	Homem
	ade Quiche\n\n\n\n	Mini Scotch Eggs\n\n\n\n	Scone\, Jam and Clotted Cream\
	n\n\n\n	Individual Victoria Sponge Fairy Cakes\n\n\n\n	Chocolate Brownie\n
	\n\n\n	Freshly brewed Tea\n\n\n\n	Finished off with a glass of Bucks Fizz\
	n\n\n\n	£10.00 per person\n\n\n\n	If you have any dietary requirements\, 
	please notify us at the time of booking.\n\n\n\n	Email : bookings@lsas.or
	g.uk Tel : 07564 336332\n\n\n\n	Bacs – LSAS   S/C 40-24-40    Acc 
	11117823   Ref: Tea\n\n\n\n	Payment must be made within 48hrs of booking
	 to confirm.\n\n\n\n	Closing date for bookings is Wednesday 21st May\n\n\n
	\n	 \n\n
DTSTART;VALUE=DATE:20250525
END:VEVENT
END:VCALENDAR
