BEGIN:VCALENDAR
VERSION:2.0
PRODID:-//InvisionCommunity Events 5.0.18//EN
METHOD:PUBLISH
CALSCALE:GREGORIAN
REFRESH-INTERVAL:PT15M
X-PUBLISHED-TTL:PT15M
X-WR-CALNAME:North West
NAME:North West
BEGIN:VTIMEZONE
TZID:Europe/London
TZURL:https://tzurl.org/zoneinfo/Europe/London
X-LIC-LOCATION:Europe/London
BEGIN:DAYLIGHT
TZOFFSETFROM:+0000
TZOFFSETTO:+0100
TZNAME:BST
DTSTART:20250330T020000Z
RRULE:FREQ=YEARLY;BYMONTH=3;BYDAY=-1SU
END:DAYLIGHT
BEGIN:STANDARD
TZOFFSETFROM:+0100
TZOFFSETTO:+0000
TZNAME:GMT
DTSTART:20251026T020000Z
RRULE:FREQ=YEARLY;BYMONTH=10;BYDAY=-1SU
END:STANDARD
END:VTIMEZONE
BEGIN:VEVENT
SUMMARY:Boogie Nights – Music Through the Decades & Gala Buffet
DTSTAMP:20250310T092041Z
SEQUENCE:0
UID:9428-5-0712e666d78c35a5e0181a336d457050@bn.org.uk
ORGANIZER;CN="Grandma Jane":notifications@bn.org.uk
DESCRIPTION:\n	Boogie Nights – Music Through the Decades &amp\; Gala B
	uffet\n\n\n\n	24 May @ 5:00 pm - 11:30 pm\n\n\n\n	 \n\n\n\n	Menu &amp\;
	 details to follow\n\n\n\n	email: bookings@lsas.org.uk Tel : 07564 336332\
	n\n\n\n	 Bacs – LSAS   S/C 40-24-40    Acc 11117823   Ref: 60/70\n\
	n\n\n	Payment must be made within 48hrs of booking to confirm.\n\n\n\n	Clo
	sing date for bookings is Wednesday 21st May.\n\n\n\n	All events are open 
	to members and non-members\n\n
DTSTART;VALUE=DATE:20250524
END:VEVENT
END:VCALENDAR
