BEGIN:VCALENDAR
VERSION:2.0
PRODID:-//InvisionCommunity Events 5.0.18//EN
METHOD:PUBLISH
CALSCALE:GREGORIAN
REFRESH-INTERVAL:PT15M
X-PUBLISHED-TTL:PT15M
X-WR-CALNAME:Scotland and North East (SANER)
NAME:Scotland and North East (SANER)
BEGIN:VTIMEZONE
TZID:Europe/London
TZURL:https://tzurl.org/zoneinfo/Europe/London
X-LIC-LOCATION:Europe/London
BEGIN:DAYLIGHT
TZOFFSETFROM:+0000
TZOFFSETTO:+0100
TZNAME:BST
DTSTART:20250330T020000Z
RRULE:FREQ=YEARLY;BYMONTH=3;BYDAY=-1SU
END:DAYLIGHT
BEGIN:STANDARD
TZOFFSETFROM:+0100
TZOFFSETTO:+0000
TZNAME:GMT
DTSTART:20251026T020000Z
RRULE:FREQ=YEARLY;BYMONTH=10;BYDAY=-1SU
END:STANDARD
END:VTIMEZONE
BEGIN:VEVENT
SUMMARY:Seahouses and Farne islands Naturist Boat Trip
DTSTAMP:20250307T160624Z
SEQUENCE:0
UID:9417-3-0712e666d78c35a5e0181a336d457050@bn.org.uk
ORGANIZER;CN="Falkirkdan":notifications@bn.org.uk
DESCRIPTION:\n	Come join us a for lovely naturist boat trip out of Seaho
	use Harbour\, Northumberland.  Be entertained by the dolphins and the puf
	fins on the this ever popular boat trip. \n\n\n\n	Meet at the Seahouses H
	arbour at 15.30 to join our boat at 16.00.  As Seahouses is very busy at 
	weekends allow enough time to get parked and get you chippie.\n\n\n\n	Book
	 here £25 per person open to BN members\, their guests and other naturis
	ts.\n\n\n\n	Make it a North East weekend by booking to go to the Alnwick G
	ardens on the Sunday and variety of events organised at Tando Naturist Clu
	b.\n\n\n\n	\n\n\n\n	\n\n\n\n	\n\n\n\n	\n\n
DTSTART:20250719T143000Z
DTEND:20250719T163000Z
END:VEVENT
END:VCALENDAR
