BEGIN:VCALENDAR
VERSION:2.0
PRODID:-//InvisionCommunity Events 5.0.18//EN
METHOD:PUBLISH
CALSCALE:GREGORIAN
REFRESH-INTERVAL:PT15M
X-PUBLISHED-TTL:PT15M
X-WR-CALNAME:Northern Ireland
NAME:Northern Ireland
BEGIN:VTIMEZONE
TZID:Europe/London
TZURL:https://tzurl.org/zoneinfo/Europe/London
X-LIC-LOCATION:Europe/London
BEGIN:DAYLIGHT
TZOFFSETFROM:+0000
TZOFFSETTO:+0100
TZNAME:BST
DTSTART:20250330T020000Z
RRULE:FREQ=YEARLY;BYMONTH=3;BYDAY=-1SU
END:DAYLIGHT
BEGIN:STANDARD
TZOFFSETFROM:+0100
TZOFFSETTO:+0000
TZNAME:GMT
DTSTART:20251026T020000Z
RRULE:FREQ=YEARLY;BYMONTH=10;BYDAY=-1SU
END:STANDARD
END:VTIMEZONE
BEGIN:VEVENT
SUMMARY:Dance class
DTSTAMP:20250303T222722Z
SEQUENCE:0
UID:9394-29-0712e666d78c35a5e0181a336d457050@bn.org.uk
ORGANIZER;CN="Kev.oconnor":notifications@bn.org.uk
DESCRIPTION:\n	Cost £5 per person for one hour of dancing. We will be l
	earning stroll and partner dancing. Clothing optional RSVP to book\n\n\n\n
		 \n\n\n\n	This event can be combined with the nearby Broughshane sauna e
	vening - see calendar \n\n
DTSTART:20250319T193000Z
DTEND:20250319T203000Z
END:VEVENT
END:VCALENDAR
