BEGIN:VCALENDAR
VERSION:2.0
PRODID:-//InvisionCommunity Events 5.0.18//EN
METHOD:PUBLISH
CALSCALE:GREGORIAN
REFRESH-INTERVAL:PT15M
X-PUBLISHED-TTL:PT15M
X-WR-CALNAME:South West
NAME:South West
BEGIN:VTIMEZONE
TZID:Europe/London
TZURL:https://tzurl.org/zoneinfo/Europe/London
X-LIC-LOCATION:Europe/London
BEGIN:DAYLIGHT
TZOFFSETFROM:+0000
TZOFFSETTO:+0100
TZNAME:BST
DTSTART:20250330T020000Z
RRULE:FREQ=YEARLY;BYMONTH=3;BYDAY=-1SU
END:DAYLIGHT
BEGIN:STANDARD
TZOFFSETFROM:+0100
TZOFFSETTO:+0000
TZNAME:GMT
DTSTART:20251026T020000Z
RRULE:FREQ=YEARLY;BYMONTH=10;BYDAY=-1SU
END:STANDARD
END:VTIMEZONE
BEGIN:VEVENT
SUMMARY:Naturist Walks Dorset – Abbotsbury
DTSTAMP:20250303T123206Z
SEQUENCE:0
UID:9392-4-0712e666d78c35a5e0181a336d457050@bn.org.uk
ORGANIZER;CN="bdzpete":notifications@bn.org.uk
DESCRIPTION:\n	Come and join us for a naked country walk deep in the hea
	rt of Dorset.\n\n\n\n	After using the public bus to take us up the hill ou
	t of Abbotsbury our route will follow the grassy South Dorset Ridgeway\, w
	ith its stunning views over Chesil Beach and the Isle of Portland\, to Har
	dy’s Monument.  Then we return via Portesham to Abbotsbury on public f
	ootpaths and bridleways.  9 or 6 miles (depending on the group’s prefe
	rences on the day).\n\n\n\n	 \n\n\n\n	This event is one of 5 Naturist Wal
	ks Dorset planned for April\, all listed in the BN Events Calendar.  Brit
	ish Naturism members and others interested in naked walking are all welcom
	e.  When booking\, please state your BN membership number or other inter
	est\, and provide your email address and mobile phone number. \n\n\n\n	Fo
	r further information or to book onto this and/or other walks in the serie
	s\, please email peter.simpson@bn.org.uk   Details of the meeting point
	 and other information will be provided when your booking is confirmed.\n\
	n
DTSTART;VALUE=DATE:20250428
ATTENDEE;CN="Garrett06412";CUTYPE=INDIVIDUAL;PARTSTAT=ACCEPT
	ED:notifications@bn.org.uk
ATTENDEE;CN="victor";CUTYPE=INDIVIDUAL;PARTSTAT=ACCEPTED:not
	ifications@bn.org.uk
END:VEVENT
END:VCALENDAR
