BEGIN:VCALENDAR
VERSION:2.0
PRODID:-//InvisionCommunity Events 5.0.18//EN
METHOD:PUBLISH
CALSCALE:GREGORIAN
REFRESH-INTERVAL:PT15M
X-PUBLISHED-TTL:PT15M
X-WR-CALNAME:South West
NAME:South West
BEGIN:VTIMEZONE
TZID:Europe/London
TZURL:https://tzurl.org/zoneinfo/Europe/London
X-LIC-LOCATION:Europe/London
BEGIN:DAYLIGHT
TZOFFSETFROM:+0000
TZOFFSETTO:+0100
TZNAME:BST
DTSTART:20250330T020000Z
RRULE:FREQ=YEARLY;BYMONTH=3;BYDAY=-1SU
END:DAYLIGHT
BEGIN:STANDARD
TZOFFSETFROM:+0100
TZOFFSETTO:+0000
TZNAME:GMT
DTSTART:20251026T020000Z
RRULE:FREQ=YEARLY;BYMONTH=10;BYDAY=-1SU
END:STANDARD
END:VTIMEZONE
BEGIN:VEVENT
SUMMARY:Naturist Walks Dorset – Holt Heath (near Wimborne)
DTSTAMP:20250303T122640Z
SEQUENCE:0
UID:9391-4-0712e666d78c35a5e0181a336d457050@bn.org.uk
ORGANIZER;CN="bdzpete":notifications@bn.org.uk
DESCRIPTION:\n	Come and join us for a naked country walk deep in the hea
	rt of Dorset.\n\n\n\n	 \n\n\n\n	Our route passes over and around the open
	 heathland of Holt Heath National Nature Reserve on footpaths\, bridleways
	 and gravel tracks.  We also pass through some farmland and mixed-age fo
	restry plantations\, plus a short section on asphalt.  Around 6 miles (s
	ubject to final recce\, and the group’s preferences on the day).\n\n\n\n
		This event is one of 5 Naturist Walks Dorset planned for April\, all list
	ed in the BN Events Calendar.  British Naturism members and others intere
	sted in naked walking are all welcome.  When booking\, please state your
	 BN membership number or other interest\, and provide your email address a
	nd mobile phone number. \n\n\n\n	For further information or to book onto 
	this and/or other walks in the series\, please email peter.simpson@bn.org.
	uk   Details of the meeting point and other information will be provide
	d when your booking is confirmed.\n\n
DTSTART;VALUE=DATE:20250423
ATTENDEE;CN="NickandJenny";CUTYPE=INDIVIDUAL;PARTSTAT=ACCEPT
	ED:notifications@bn.org.uk
ATTENDEE;CN="victor";CUTYPE=INDIVIDUAL;PARTSTAT=ACCEPTED:not
	ifications@bn.org.uk
ATTENDEE;CN="Garrett06412";CUTYPE=INDIVIDUAL;PARTSTAT=ACCEPT
	ED:notifications@bn.org.uk
END:VEVENT
END:VCALENDAR
