BEGIN:VCALENDAR
VERSION:2.0
PRODID:-//InvisionCommunity Events 5.0.18//EN
METHOD:PUBLISH
CALSCALE:GREGORIAN
REFRESH-INTERVAL:PT15M
X-PUBLISHED-TTL:PT15M
X-WR-CALNAME:London and South East (LASER)
NAME:London and South East (LASER)
BEGIN:VTIMEZONE
TZID:Europe/London
TZURL:https://tzurl.org/zoneinfo/Europe/London
X-LIC-LOCATION:Europe/London
BEGIN:DAYLIGHT
TZOFFSETFROM:+0000
TZOFFSETTO:+0100
TZNAME:BST
DTSTART:20250330T020000Z
RRULE:FREQ=YEARLY;BYMONTH=3;BYDAY=-1SU
END:DAYLIGHT
BEGIN:STANDARD
TZOFFSETFROM:+0100
TZOFFSETTO:+0000
TZNAME:GMT
DTSTART:20251026T020000Z
RRULE:FREQ=YEARLY;BYMONTH=10;BYDAY=-1SU
END:STANDARD
END:VTIMEZONE
BEGIN:VEVENT
SUMMARY:Naked Retro Gaming
DTSTAMP:20250302T192852Z
SEQUENCE:0
UID:9387-7-0712e666d78c35a5e0181a336d457050@bn.org.uk
ORGANIZER;CN="sberriman":notifications@bn.org.uk
DESCRIPTION:\n	NAKED RETRO GAMING LIVE!\n\n\n\n	Join us for a day of Nak
	ed Retro Gaming fun on Saturday 26th April hosted by Simon and Helen Berri
	man\, aka the Naked Retro Gamers. With games consoles and retro computers 
	from the 1970's upto the 2000's set up and ready to play\, there is bound
	 to be plenty of nostalgia!\n\n\n\n	\n\n\n\n	Stay the weekend with like-mi
	nded gamers and enjoy all the other great facilities at Sunfolk.\n\n\n\n	B
	ook for a one or two-night stay. For booking\, please see the Sunfolk book
	ings page here.\n\n
DTSTART:20250426T100000Z
END:VEVENT
END:VCALENDAR
