BEGIN:VCALENDAR
VERSION:2.0
PRODID:-//InvisionCommunity Events 5.0.18//EN
METHOD:PUBLISH
CALSCALE:GREGORIAN
REFRESH-INTERVAL:PT15M
X-PUBLISHED-TTL:PT15M
X-WR-CALNAME:London and South East (LASER)
NAME:London and South East (LASER)
BEGIN:VTIMEZONE
TZID:Europe/London
TZURL:https://tzurl.org/zoneinfo/Europe/London
X-LIC-LOCATION:Europe/London
BEGIN:DAYLIGHT
TZOFFSETFROM:+0000
TZOFFSETTO:+0100
TZNAME:BST
DTSTART:20250330T020000Z
RRULE:FREQ=YEARLY;BYMONTH=3;BYDAY=-1SU
END:DAYLIGHT
BEGIN:STANDARD
TZOFFSETFROM:+0100
TZOFFSETTO:+0000
TZNAME:GMT
DTSTART:20251026T020000Z
RRULE:FREQ=YEARLY;BYMONTH=10;BYDAY=-1SU
END:STANDARD
END:VTIMEZONE
BEGIN:VEVENT
SUMMARY:Brighton Pride
DTSTAMP:20250228T112720Z
SEQUENCE:0
UID:9383-7-0712e666d78c35a5e0181a336d457050@bn.org.uk
ORGANIZER;CN="Bare_Rick":notifications@bn.org.uk
DESCRIPTION:*** BRIGHTON PRIDE IS GO ***I can finally announce some very
	 exciting news. Brighton Pride have given BN a place in the Pride Parade!W
	e've been taking to them for a while and are delighted to receive the conf
	irmation - but the Parade is now only a couple of weeks away on Saturday A
	ugust 2.So this is a call to action. Please let me know urgently if you ca
	n come. We need a range of diverse people from across the LGBTQ community 
	and our allies. However you identify\, all are welcome.Sadly\, nudity in t
	he Parade is not permitted but we will wear buff coloured pants and will b
	e carrying a banner promoting BN and how it is accepting of all.If you can
	 be in Brighton on the day or are at the Everybody festival and want to he
	ad across please let me know.This is a big moment for BN and will be great
	 publicity for us and how welcoming we are.Richard Stacey\, LGTBQ officer\
	, British Naturism 
DTSTART;VALUE=DATE:20250802
END:VEVENT
END:VCALENDAR
