BEGIN:VCALENDAR
VERSION:2.0
PRODID:-//InvisionCommunity Events 5.0.18//EN
METHOD:PUBLISH
CALSCALE:GREGORIAN
REFRESH-INTERVAL:PT15M
X-PUBLISHED-TTL:PT15M
X-WR-CALNAME:Eastern
NAME:Eastern
BEGIN:VTIMEZONE
TZID:Europe/London
TZURL:https://tzurl.org/zoneinfo/Europe/London
X-LIC-LOCATION:Europe/London
BEGIN:DAYLIGHT
TZOFFSETFROM:+0000
TZOFFSETTO:+0100
TZNAME:BST
DTSTART:20250330T020000Z
RRULE:FREQ=YEARLY;BYMONTH=3;BYDAY=-1SU
END:DAYLIGHT
BEGIN:STANDARD
TZOFFSETFROM:+0100
TZOFFSETTO:+0000
TZNAME:GMT
DTSTART:20251026T020000Z
RRULE:FREQ=YEARLY;BYMONTH=10;BYDAY=-1SU
END:STANDARD
END:VTIMEZONE
BEGIN:VEVENT
SUMMARY:Solstice Art Show at Spielplatz
DTSTAMP:20250227T160646Z
SEQUENCE:0
UID:9382-8-0712e666d78c35a5e0181a336d457050@bn.org.uk
ORGANIZER;CN="Andrew.Welch":notifications@bn.org.uk
DESCRIPTION:\n	Spielplatz Art Show\n\n\n\n	Summer Solstice weekend - Jun
	e 21/22 2025\n\n\n\n	 \n\n\n\n	Come and visit the première Spielplatz ar
	t show this summer. Members and residents will be exhibiting a wide variet
	y of artistic genres and we want YOU to come and see them.\n\n\n\n	Spielpl
	atz will be open to day visitors and campers and you will be able to enjoy
	 our swimming pool\, hot tub\, sauna\, bar and beautiful grounds\, just no
	rth of London and right next door to the newly-renovated British Naturism 
	Sunfolk.\n\n\n\n	Many of the artworks will be for sale but not necessarily
	 for money! Consider exchanging your skills and your time by providing som
	ething that the artist will find of value - logs for their wood-burner\, w
	ork in their garden\, painting and decorating - it’s up to you!\n\n\n\n	
	https://www.spielplatz.co.uk\n\n\n\n	 \n\n\n\n	\n\n
DTSTART;VALUE=DATE:20250621
DTEND;VALUE=DATE:20250623
END:VEVENT
END:VCALENDAR
