BEGIN:VCALENDAR
VERSION:2.0
PRODID:-//InvisionCommunity Events 5.0.18//EN
METHOD:PUBLISH
CALSCALE:GREGORIAN
REFRESH-INTERVAL:PT15M
X-PUBLISHED-TTL:PT15M
X-WR-CALNAME:Scotland and North East (SANER)
NAME:Scotland and North East (SANER)
BEGIN:VTIMEZONE
TZID:Europe/London
TZURL:https://tzurl.org/zoneinfo/Europe/London
X-LIC-LOCATION:Europe/London
BEGIN:DAYLIGHT
TZOFFSETFROM:+0000
TZOFFSETTO:+0100
TZNAME:BST
DTSTART:20250330T020000Z
RRULE:FREQ=YEARLY;BYMONTH=3;BYDAY=-1SU
END:DAYLIGHT
BEGIN:STANDARD
TZOFFSETFROM:+0100
TZOFFSETTO:+0000
TZNAME:GMT
DTSTART:20251026T020000Z
RRULE:FREQ=YEARLY;BYMONTH=10;BYDAY=-1SU
END:STANDARD
END:VTIMEZONE
BEGIN:VEVENT
SUMMARY:GBSD Findhorn 2025
DTSTAMP:20250226T141354Z
SEQUENCE:0
UID:9381-3-0712e666d78c35a5e0181a336d457050@bn.org.uk
ORGANIZER;CN="AlanE60":notifications@bn.org.uk
DESCRIPTION:\n	The most northerly GBSD event. This location will be a 
	bit of a trek for most but there are plenty of accommodation options nearb
	y and several other beaches and skinny-dipping opportunities to explore in
	 the area so why not make a weekend of it?\n\n\n\n	Join us at Findhorn Eas
	t beach (postcode IV36 3AB\, what3words booklets.boxing.dragonfly) for the
	 most northerly GBSD in the UK! This stunning location is at one end of 
	a 7-mile beach to Burghead with views across the Moray Firth towards Caith
	ness. Curious seals often come along to see what is happening\, dolphins r
	egularly visit the area and a basking shark joined the dip in 2024 (from a
	 safe distance)!\n\n\n\n	The event will raise funds for the Findhorn Dunes
	 Trust who own the section of beach which we’ll be using. Although they 
	are a not on JustGiving\, they are a registered charity and their bank det
	ails can be provided to anyone who wants to make donations directly. Funds
	 enable the charity to raise awareness about this fragile environment and 
	promote activities to remove invasive species which are destroying the rar
	e 'dune heath' which is home to a variety of endangered lichens\, fungi an
	d moths. Suggested donation of £10 per person\, or as much as you can aff
	ord.\n\n\n\n	Please park in the East Beach car park which is signposted to
	wards the right on the approach to Findhorn. The car park is at the end of
	 “Dunes Road”\, which is a bit of a rough track towards the end. Park 
	around to the left and please leave the “Blue Badge” spaces for those 
	who have a blue badge. The car park is free\, though donations are welcome
	. There are no facilities at the east beach. There are facilities (toilets
	\, cafes) in Findhorn itself and on the main beach which are a short drive
	 or 10-minute walk away.\n\n
DTSTART:20250830T140000Z
DTEND:20250830T150000Z
END:VEVENT
END:VCALENDAR
