BEGIN:VCALENDAR
VERSION:2.0
PRODID:-//InvisionCommunity Events 5.0.18//EN
METHOD:PUBLISH
CALSCALE:GREGORIAN
REFRESH-INTERVAL:PT15M
X-PUBLISHED-TTL:PT15M
X-WR-CALNAME:North West
NAME:North West
BEGIN:VTIMEZONE
TZID:Europe/London
TZURL:https://tzurl.org/zoneinfo/Europe/London
X-LIC-LOCATION:Europe/London
BEGIN:DAYLIGHT
TZOFFSETFROM:+0000
TZOFFSETTO:+0100
TZNAME:BST
DTSTART:20250330T020000Z
RRULE:FREQ=YEARLY;BYMONTH=3;BYDAY=-1SU
END:DAYLIGHT
BEGIN:STANDARD
TZOFFSETFROM:+0100
TZOFFSETTO:+0000
TZNAME:GMT
DTSTART:20251026T020000Z
RRULE:FREQ=YEARLY;BYMONTH=10;BYDAY=-1SU
END:STANDARD
END:VTIMEZONE
BEGIN:VEVENT
SUMMARY:Naturist Visit to the Dorothy Clive Gardens
DTSTAMP:20250220T164842Z
SEQUENCE:0
UID:9307-5-0712e666d78c35a5e0181a336d457050@bn.org.uk
ORGANIZER;CN="john.rodgers":notifications@bn.org.uk
DESCRIPTION:Naked Shropshire and the North West Region of British Naturi
	sm are arranging an evening visit to the gardens\, which are near Market D
	rayton in Shropshire\,TF9 4EU on Wednesday 25th June from 18.00 – 20.30h
	rs. As in previous years tea and coffee will be on sale in the pavilion\, 
	cash only please. You can also as in previous years take a picnic. There a
	re seats outside the cafe (closed) and elsewhere in the gardens. If you ha
	ve a non-Naturist partner they are welcome to come along too.\n\nAdvance t
	ickets online BN members £14\, and non BN member £15. \n\nOn the gate (o
	n the evening) prices (cash only no cards) are BN members £15\, and non B
	N members £17. Teas and coffee's available but again its cash only.Please
	 click here to book an online ticket.
DTSTART:20250625T170000Z
DTEND:20250625T193000Z
END:VEVENT
END:VCALENDAR
