BEGIN:VCALENDAR
VERSION:2.0
PRODID:-//InvisionCommunity Events 5.0.18//EN
METHOD:PUBLISH
CALSCALE:GREGORIAN
REFRESH-INTERVAL:PT15M
X-PUBLISHED-TTL:PT15M
X-WR-CALNAME:South West
NAME:South West
BEGIN:VTIMEZONE
TZID:Europe/London
TZURL:https://tzurl.org/zoneinfo/Europe/London
X-LIC-LOCATION:Europe/London
BEGIN:DAYLIGHT
TZOFFSETFROM:+0000
TZOFFSETTO:+0100
TZNAME:BST
DTSTART:20250330T020000Z
RRULE:FREQ=YEARLY;BYMONTH=3;BYDAY=-1SU
END:DAYLIGHT
BEGIN:STANDARD
TZOFFSETFROM:+0100
TZOFFSETTO:+0000
TZNAME:GMT
DTSTART:20251026T020000Z
RRULE:FREQ=YEARLY;BYMONTH=10;BYDAY=-1SU
END:STANDARD
END:VTIMEZONE
BEGIN:VEVENT
SUMMARY:Naked Cruise Poole 2025
DTSTAMP:20250217T140524Z
SEQUENCE:0
UID:9297-4-0712e666d78c35a5e0181a336d457050@bn.org.uk
ORGANIZER;CN="Alana":notifications@bn.org.uk
DESCRIPTION:\n	Come and join me on the evening on Saturday 28th June 202
	5 for a Naked Cruise around Poole Harbour and beyond right in the heart of
	 Dorset?  This is a fantastic opportunity to climb aboard MV Solent Scene
	 at Poole Quay then sit back and enjoy the beautiful scenery of the Dorset
	 Riviera as you cruise around Brownsea Island\, past Sandbanks and Old Har
	ry Rocks then along the Jurassic coast towards Swanage\, returning past Mi
	llionaire’s Row before arriving back at Poole Quay.  \n\n\n\n	Solent Sc
	ene has two separate internal saloons\, incorporating the bar and quiet lo
	unge on the lower deck and the disco and dancefloor on the upper deck. In 
	addition to this\, she also has two large outside decks.  The on-board ba
	r will be open throughout the trip so you can purchase drinks for cash or 
	card payment.  A fish and chips supper will be available as an optional e
	xtra which you can book when purchasing your ticket.\n\n\n\n	Boarding the 
	vessel will be from Poole Quay at 18.45 hrs with departure at 19.00 hrs an
	d return will be by 22.00 hrs.  You must be dressed to embark and debark 
	the vessel but you will be able to undress after departure and remain nake
	d until just before mooring at the end of the cruise.  This is an adult o
	nly cruise.  Several pay car parks are available within easy walking dist
	ance of the quayside but beware\, there is very little free roadside parki
	ng nearby.\n\n\n\n	Please contact me if you need additional information\, 
	have a dietary requirement\, or have a question to ask.\n\n\n\n	Keith Bowm
	an keith.bowman@bn.org.uk\n\n\n\n	Click here to book.\n\n
DTSTART:20250628T174500Z
DTEND:20250628T210000Z
END:VEVENT
END:VCALENDAR
