BEGIN:VCALENDAR
VERSION:2.0
PRODID:-//InvisionCommunity Events 5.0.18//EN
METHOD:PUBLISH
CALSCALE:GREGORIAN
REFRESH-INTERVAL:PT15M
X-PUBLISHED-TTL:PT15M
X-WR-CALNAME:North West
NAME:North West
BEGIN:VTIMEZONE
TZID:Europe/London
TZURL:https://tzurl.org/zoneinfo/Europe/London
X-LIC-LOCATION:Europe/London
BEGIN:DAYLIGHT
TZOFFSETFROM:+0000
TZOFFSETTO:+0100
TZNAME:BST
DTSTART:20250330T020000Z
RRULE:FREQ=YEARLY;BYMONTH=3;BYDAY=-1SU
END:DAYLIGHT
BEGIN:STANDARD
TZOFFSETFROM:+0100
TZOFFSETTO:+0000
TZNAME:GMT
DTSTART:20251026T020000Z
RRULE:FREQ=YEARLY;BYMONTH=10;BYDAY=-1SU
END:STANDARD
END:VTIMEZONE
BEGIN:VEVENT
SUMMARY:Open Day at Liverpool Sun And Air Society
DTSTAMP:20250217T091927Z
SEQUENCE:0
UID:9296-5-0712e666d78c35a5e0181a336d457050@bn.org.uk
ORGANIZER;CN="Grandma Jane":notifications@bn.org.uk
DESCRIPTION:\n	Open Day at Liverpool Sun &amp\; Air 11 May @ 10:00 am \
	n\n\n\n	We’re one of the UK’s longest established naturist clubs and h
	ave been on our 10 acre site since 1933. We may have a long history but we
	 don’t live in the past and have consistently invested in the club so th
	at we can offer our members and visitors some of the best facilities aroun
	d.\n\n\n\n	More details to follow\n\n\n\n	 \n\n\n\n	Contact details: Secr
	etary 07967 88 44 48\, Visitor Team 07947 48 07 07\,   info@lsas.org.
	uk \n\n\n
DTSTART;VALUE=DATE:20250511
END:VEVENT
END:VCALENDAR
