BEGIN:VCALENDAR
VERSION:2.0
PRODID:-//InvisionCommunity Events 5.0.18//EN
METHOD:PUBLISH
CALSCALE:GREGORIAN
REFRESH-INTERVAL:PT15M
X-PUBLISHED-TTL:PT15M
X-WR-CALNAME:South West
NAME:South West
BEGIN:VTIMEZONE
TZID:Europe/London
TZURL:https://tzurl.org/zoneinfo/Europe/London
X-LIC-LOCATION:Europe/London
BEGIN:DAYLIGHT
TZOFFSETFROM:+0000
TZOFFSETTO:+0100
TZNAME:BST
DTSTART:20250330T020000Z
RRULE:FREQ=YEARLY;BYMONTH=3;BYDAY=-1SU
END:DAYLIGHT
BEGIN:STANDARD
TZOFFSETFROM:+0100
TZOFFSETTO:+0000
TZNAME:GMT
DTSTART:20251026T020000Z
RRULE:FREQ=YEARLY;BYMONTH=10;BYDAY=-1SU
END:STANDARD
END:VTIMEZONE
BEGIN:VEVENT
SUMMARY:South Wales Meet & Greet
DTSTAMP:20250217T084117Z
SEQUENCE:0
UID:9295-4-0712e666d78c35a5e0181a336d457050@bn.org.uk
ORGANIZER;CN="Sunshinekid":notifications@bn.org.uk
DESCRIPTION:\n	16th March 2025\n\n\n\n	Meet &amp\; Greet  17.00 to 18.3
	0pm\n\n\n\n	 \n\n\n\n	The Old White hart \n\n\n\n	Wine Street\,\n\n\n\n	
	Llantwit Major\n\n\n\n	CF61 1RZ\, UK\n\n\n\n	This is a clothed event\,\n\n
	\n\n	Chat at events coming up in the new year around south wales.\n\n\n\n	
	Meals are available Sunday.\n\n\n\n	It will be Sunday Roast\, either Pork
	\, Chicken Supreme\, Beef or Nut Roast or Quorn.\n\n\n\n	£8.95\n\n\n\n	Sa
	id to be Senior Portions\n\n\n\n	Can you let me know by Friday 14th March 
	2025 6pm\, prior to event.\n\n\n\n	Thanks\n\n\n\n	Bob\n\n
DTSTART:20250216T170000Z
DTEND:20250216T183000Z
END:VEVENT
END:VCALENDAR
