BEGIN:VCALENDAR
VERSION:2.0
PRODID:-//InvisionCommunity Events 5.0.18//EN
METHOD:PUBLISH
CALSCALE:GREGORIAN
REFRESH-INTERVAL:PT15M
X-PUBLISHED-TTL:PT15M
X-WR-CALNAME:North West
NAME:North West
BEGIN:VTIMEZONE
TZID:Europe/London
TZURL:https://tzurl.org/zoneinfo/Europe/London
X-LIC-LOCATION:Europe/London
BEGIN:DAYLIGHT
TZOFFSETFROM:+0000
TZOFFSETTO:+0100
TZNAME:BST
DTSTART:20250330T020000Z
RRULE:FREQ=YEARLY;BYMONTH=3;BYDAY=-1SU
END:DAYLIGHT
BEGIN:STANDARD
TZOFFSETFROM:+0100
TZOFFSETTO:+0000
TZNAME:GMT
DTSTART:20251026T020000Z
RRULE:FREQ=YEARLY;BYMONTH=10;BYDAY=-1SU
END:STANDARD
END:VTIMEZONE
BEGIN:VEVENT
SUMMARY:BN NW Petanque Open Event at Lancashire Sun.
DTSTAMP:20250211T133056Z
SEQUENCE:0
UID:9292-5-0712e666d78c35a5e0181a336d457050@bn.org.uk
ORGANIZER;CN="Ron.O":notifications@bn.org.uk
DESCRIPTION:LANCASHIRE SUN CLUB are again proud to host the...BN North W
	est Petanque Event\, Sunday 1st June - arrive from 9am for a 10am start to
	 games.We have Accommodation &amp\; Camping space available.Come and join 
	us for a terrific day at this fantastic venue - whether you choose to play
	 or spectate\, a fabulous day is in store with a village fete atmosphere.T
	his is an open day\, but please register to attend as a spectator or playe
	r. Entrance is free of charge and is open to NW BN members\, NW BN Club 
	members and invited guests.Hot Dogs\, various snacks\, plus hot and cold d
	rinks will be on sale throughout the day.Feel free to use our facilities w
	hich include a solar heated pool &amp\; hot tub. 
DTSTART:20250601T080000Z
DTEND:20250601T170000Z
END:VEVENT
END:VCALENDAR
