BEGIN:VCALENDAR
VERSION:2.0
PRODID:-//InvisionCommunity Events 5.0.18//EN
METHOD:PUBLISH
CALSCALE:GREGORIAN
REFRESH-INTERVAL:PT15M
X-PUBLISHED-TTL:PT15M
X-WR-CALNAME:North West
NAME:North West
BEGIN:VTIMEZONE
TZID:Europe/London
TZURL:https://tzurl.org/zoneinfo/Europe/London
X-LIC-LOCATION:Europe/London
BEGIN:DAYLIGHT
TZOFFSETFROM:+0000
TZOFFSETTO:+0100
TZNAME:BST
DTSTART:20250330T020000Z
RRULE:FREQ=YEARLY;BYMONTH=3;BYDAY=-1SU
END:DAYLIGHT
BEGIN:STANDARD
TZOFFSETFROM:+0100
TZOFFSETTO:+0000
TZNAME:GMT
DTSTART:20251026T020000Z
RRULE:FREQ=YEARLY;BYMONTH=10;BYDAY=-1SU
END:STANDARD
END:VTIMEZONE
BEGIN:VEVENT
SUMMARY:Naturist Walk on Brown Clee Hill - CANCELLED
DTSTAMP:20250210T121440Z
SEQUENCE:0
UID:9291-5-0712e666d78c35a5e0181a336d457050@bn.org.uk
ORGANIZER;CN="john.rodgers":notifications@bn.org.uk
DESCRIPTION:\n	\n		\n			\n				\n					A Naked Shropshire walk on Thursday
	 1st May at 11.00hrs\, over Brown Clee Hill\, starting from a car park at 
	Abdon Village Hall\, Shropshire at 11.00hrs. This is same start point that
	 we used last year. The OS map reference for the car park is OS: SO576868.
	 The stated postcode is SY7 9HZ\, but given its a rural area I'm not sure 
	how accurate it is. What3Words skinny.woodstove.mountains\n				\n\n				\n
						Its a circular walk of about 8 miles with some fine views across the 
	surrounding countryside. There are some long moderately steep climbs. I pr
	opose that we meet at the car park at 11.00hrs. We will stop for packed lu
	nch during the walk\, which will take around 4.5 - 5hrs.\n				\n\n				\n		
				Those taking part should have with them a means of covering up should t
	hat be necessary. Its important to note that this is not an official BN wa
	lk\, and it is just a case of \"walking with friends\".\n				\n\n				\n			
			This walk has had to be cancelled as the third leader has had to drop ou
	t due to injury.\n				\n			\n		\n	\n\n
DTSTART:20250501T100000Z
DTEND:20250501T150000Z
END:VEVENT
END:VCALENDAR
