BEGIN:VCALENDAR
VERSION:2.0
PRODID:-//InvisionCommunity Events 5.0.18//EN
METHOD:PUBLISH
CALSCALE:GREGORIAN
REFRESH-INTERVAL:PT15M
X-PUBLISHED-TTL:PT15M
X-WR-CALNAME:South West
NAME:South West
BEGIN:VTIMEZONE
TZID:Europe/London
TZURL:https://tzurl.org/zoneinfo/Europe/London
X-LIC-LOCATION:Europe/London
BEGIN:DAYLIGHT
TZOFFSETFROM:+0000
TZOFFSETTO:+0100
TZNAME:BST
DTSTART:20250330T020000Z
RRULE:FREQ=YEARLY;BYMONTH=3;BYDAY=-1SU
END:DAYLIGHT
BEGIN:STANDARD
TZOFFSETFROM:+0100
TZOFFSETTO:+0000
TZNAME:GMT
DTSTART:20251026T020000Z
RRULE:FREQ=YEARLY;BYMONTH=10;BYDAY=-1SU
END:STANDARD
END:VTIMEZONE
BEGIN:VEVENT
SUMMARY:Naked Cruise Plymouth 2025
DTSTAMP:20250206T134324Z
SEQUENCE:0
UID:9284-4-0712e666d78c35a5e0181a336d457050@bn.org.uk
ORGANIZER;CN="Alana":notifications@bn.org.uk
DESCRIPTION:Join us for a 3-hour naked evening cruise around Plymouth So
	und in Devon and along The River Lynher towards St Germans.  Board the ve
	ssel at The Barbican Landing Stage and prepare to admire the beautiful sce
	nery looking back on Plymouth as we cruise around The Sound and wallow in 
	the beauty of the river bank as we pass along the picturesque river Lynher
	.  See some of the Royal Navy’s ships moored in the river Tamar as you 
	pass by.  There will be music and a fully licensed bar on board from whic
	h you may purchase refreshments and pay using cash or card.  Board approx
	imately 16.30 hrs. (Exact times to be advised later.)Depart 16.45 hrs. (Ex
	act times to be advised later.)Arrive back 19.45 hrs. (Exact times to be a
	dvised later.)Round Trip: for BN members.     £25.00 each      
	 for non- members    £30.00 eachFor additional information please cont
	act keith.bowman@bn.org.ukTo book\, please click here.
DTSTART;VALUE=DATE:20250613
END:VEVENT
END:VCALENDAR
